BEGIN:VCALENDAR
VERSION:2.0
PRODID:-//ChamberMaster//Event Calendar 2.0//EN
METHOD:PUBLISH
X-PUBLISHED-TTL:P3D
REFRESH-INTERVAL:P3D
CALSCALE:GREGORIAN
BEGIN:VEVENT
DTSTART:20120920T160000Z
DTEND:20120920T163000Z
X-MICROSOFT-CDO-ALLDAYEVENT:FALSE
SUMMARY:City of Silvis/Deere Valley Apartments Groundbreaking
DESCRIPTION:Please help the City of Silvis celebrate the groundbreaking of the Deere Valley Apartments on Thursday\, September 20th at 11:00am.  Located on the corner of 22nd and 10th streets in Silvis (near the Fire Station)
X-ALT-DESC;FMTTYPE=text/html:<P style="MARGIN: 0in 0in 0pt" class=MsoNormal><FONT face=Calibri>Please help the City of Silvis celebrate the groundbreaking of the Deere Valley Apartments on Thursday\, September 20<SUP>th</SUP> at 11:00am.<SPAN style="mso-spacerun: yes">&nbsp\; </SPAN>Located on the corner of 22<SUP>nd</SUP> and 10<SUP>th</SUP> streets in Silvis (near the Fire Station)</FONT></P><DIV style="FONT-FAMILY: Arial">&nbsp\;</DIV>
LOCATION:Corner of 22nd and 10th streets
UID:e.2843.433
SEQUENCE:3
DTSTAMP:20260421T184626Z
URL:https://member.quadcitieschamber.com/events/details/city-of-silvis-deere-valley-apartments-groundbreaking-09-20-2012-433
END:VEVENT

END:VCALENDAR
