BEGIN:VCALENDAR
VERSION:2.0
PRODID:-//ChamberMaster//Event Calendar 2.0//EN
METHOD:PUBLISH
X-PUBLISHED-TTL:P3D
REFRESH-INTERVAL:P3D
CALSCALE:GREGORIAN
BEGIN:VEVENT
DTSTART:20120515T144500Z
DTEND:20120515T153000Z
X-MICROSOFT-CDO-ALLDAYEVENT:FALSE
SUMMARY:Clarksville (TN) Chamber visit - Welcome Group
DESCRIPTION:Please join us in welcoming visitors from the Clarksville (TN) Area Chamber of Commerce on Tuesday\, May 15th at 9:45am at the Elliott Aviation. The Quad Cities Chamber will be hosting the Clarksville Area Chamber of Commerce for an inter-city visit. The group of approximately 30 will include Clarksville area community leaders\, two mayors\, city and county officials\,  high-level business owners\, economic development leaders\, and Clarksville Chamber board executives. The Clarksville group hopes to gain insight\, experience\, best ideas\, and inspiration by visiting our region. The goal is to discuss strategic issues with QC community leaders. Currently\, Clarksville has many opportunities in front of them and are looking to advance a few strategic initiatives that are similar in nature to those in the Quad Cities. Directions to Elliott Aviation: (FBO\, South Side of Airport Property) ·         Take I-74 to the “T” intersection at Highway 6. Turn Left onto Hwy 6.·         At the next stoplight (Hwy 150) turn right.·         At the next stoplight (Indian Bluff Rd.) turn right.·         Turn right at the United States Postal Sorting Center (US Postal Service) ·         Go down to the stop sign and take a left. ·         Go past Building B\, turn right up the driveway at Building A (you will see the control tower right in front of you)·         Turn right into parking lot.
X-ALT-DESC;FMTTYPE=text/html:<DIV style="FONT-FAMILY: Arial"><P style="MARGIN: 0in 0in 0pt" class=MsoNormal><FONT face=Calibri>Please join us in welcoming visitors from the Clarksville (TN) Area Chamber of Commerce on Tuesday\, May 15<SUP>th</SUP> at 9:45am at the <B style="mso-bidi-font-weight: normal"><SPAN style="FONT-SIZE: 14pt">Elliott Aviation</SPAN></B>.<?xml:namespace prefix = o ns = "urn:schemas-microsoft-com:office:office" /><o:p></o:p></FONT></P><P style="MARGIN: 0in 0in 0pt" class=MsoNormal><o:p><FONT face=Calibri>&nbsp\;</FONT></o:p></P><P style="MARGIN: 0in 0in 0pt" class=MsoNormal><FONT face=Calibri>The Quad Cities Chamber will be hosting the Clarksville Area Chamber of Commerce for an inter-city visit. The group of approximately 30 will include Clarksville area community leaders\, two mayors\, city and county officials\,&nbsp\; high-level business owners\, economic development leaders\, and Clarksville Chamber board executives.<o:p></o:p></FONT></P><P style="MARGIN: 0in 0in 0pt" class=MsoNormal><o:p><FONT face=Calibri>&nbsp\;</FONT></o:p></P><P style="MARGIN: 0in 0in 0pt" class=MsoNormal><FONT face=Calibri>The Clarksville group hopes to gain insight\, experience\, best ideas\, and inspiration by visiting our region. The goal is to discuss strategic issues with QC community leaders. Currently\, Clarksville has many opportunities in front of them and are looking to advance a few strategic initiatives that are similar in nature to those in the Quad Cities.</FONT></P><FONT face=Calibri><P style="MARGIN: 0in 0in 0pt" class=MsoNormal><o:p><FONT face=Calibri></FONT></o:p>&nbsp\;</P><P style="MARGIN: 0in 0in 0pt" class=MsoNormal><FONT face=Calibri>Directions to Elliott Aviation: (FBO\, South Side of Airport Property)<o:p></o:p></FONT></P><P style="MARGIN: 0in 0in 0pt" class=MsoNormal><o:p><FONT face=Calibri>&nbsp\;</FONT></o:p></P><P style="TEXT-INDENT: -0.25in\; MARGIN: 0in 0in 0pt 0.5in\; mso-list: l0 level1 lfo1" class=MsoListParagraph><SPAN style="FONT-FAMILY: Symbol\; mso-fareast-font-family: Symbol\; mso-bidi-font-family: Symbol"><SPAN style="mso-list: Ignore">·<SPAN style="FONT: 7pt 'Times New Roman'">&nbsp\;&nbsp\;&nbsp\;&nbsp\;&nbsp\;&nbsp\;&nbsp\;&nbsp\; </SPAN></SPAN></SPAN><FONT face=Calibri>Take I-74 to the “T” intersection at Highway 6. Turn Left onto Hwy 6.<o:p></o:p></FONT></P><P style="TEXT-INDENT: -0.25in\; MARGIN: 0in 0in 0pt 0.5in\; mso-list: l0 level1 lfo1" class=MsoListParagraph><SPAN style="FONT-FAMILY: Symbol\; mso-fareast-font-family: Symbol\; mso-bidi-font-family: Symbol"><SPAN style="mso-list: Ignore">·<SPAN style="FONT: 7pt 'Times New Roman'">&nbsp\;&nbsp\;&nbsp\;&nbsp\;&nbsp\;&nbsp\;&nbsp\;&nbsp\; </SPAN></SPAN></SPAN><FONT face=Calibri>At the next stoplight (Hwy 150) turn right.<o:p></o:p></FONT></P><P style="TEXT-INDENT: -0.25in\; MARGIN: 0in 0in 0pt 0.5in\; mso-list: l0 level1 lfo1" class=MsoListParagraph><SPAN style="FONT-FAMILY: Symbol\; mso-fareast-font-family: Symbol\; mso-bidi-font-family: Symbol"><SPAN style="mso-list: Ignore">·<SPAN style="FONT: 7pt 'Times New Roman'">&nbsp\;&nbsp\;&nbsp\;&nbsp\;&nbsp\;&nbsp\;&nbsp\;&nbsp\; </SPAN></SPAN></SPAN><FONT face=Calibri>At the next stoplight (Indian Bluff Rd.) turn right.<o:p></o:p></FONT></P><P style="TEXT-INDENT: -0.25in\; MARGIN: 0in 0in 0pt 0.5in\; mso-list: l0 level1 lfo1" class=MsoListParagraph><SPAN style="FONT-FAMILY: Symbol\; mso-fareast-font-family: Symbol\; mso-bidi-font-family: Symbol"><SPAN style="mso-list: Ignore">·<SPAN style="FONT: 7pt 'Times New Roman'">&nbsp\;&nbsp\;&nbsp\;&nbsp\;&nbsp\;&nbsp\;&nbsp\;&nbsp\; </SPAN></SPAN></SPAN><FONT face=Calibri>Turn right at the United States Postal Sorting Center (US Postal Service) <o:p></o:p></FONT></P><P style="TEXT-INDENT: -0.25in\; MARGIN: 0in 0in 0pt 0.5in\; mso-list: l0 level1 lfo1" class=MsoListParagraph><SPAN style="FONT-FAMILY: Symbol\; mso-fareast-font-family: Symbol\; mso-bidi-font-family: Symbol"><SPAN style="mso-list: Ignore">·<SPAN style="FONT: 7pt 'Times New Roman'">&nbsp\;&nbsp\;&nbsp\;&nbsp\;&nbsp\;&nbsp\;&nbsp\;&nbsp\; </SPAN></SPAN></SPAN><FONT face=Calibri>Go down to the stop sign and take a left. <o:p></o:p></FONT></P><P style="TEXT-INDENT: -0.25in\; MARGIN: 0in 0in 0pt 0.5in\; mso-list: l0 level1 lfo1" class=MsoListParagraph><SPAN style="FONT-FAMILY: Symbol\; mso-fareast-font-family: Symbol\; mso-bidi-font-family: Symbol"><SPAN style="mso-list: Ignore">·<SPAN style="FONT: 7pt 'Times New Roman'">&nbsp\;&nbsp\;&nbsp\;&nbsp\;&nbsp\;&nbsp\;&nbsp\;&nbsp\; </SPAN></SPAN></SPAN><FONT face=Calibri>Go past Building B\, turn right up the driveway at Building A (you will see the control tower right in front of you)<o:p></o:p></FONT></P><P style="TEXT-INDENT: -0.25in\; MARGIN: 0in 0in 0pt 0.5in\; mso-list: l0 level1 lfo1" class=MsoListParagraph><SPAN style="FONT-FAMILY: Symbol\; FONT-SIZE: 12pt\; mso-fareast-font-family: Symbol\; mso-bidi-font-family: Symbol"><SPAN style="mso-list: Ignore">·<SPAN style="FONT: 7pt 'Times New Roman'">&nbsp\;&nbsp\;&nbsp\;&nbsp\;&nbsp\;&nbsp\;&nbsp\;&nbsp\; </SPAN></SPAN></SPAN><FONT face=Calibri>Turn right into parking lot. <SPAN style="FONT-SIZE: 12pt"><o:p></o:p></SPAN></FONT></P><o:p></o:p></FONT></DIV>
LOCATION:Elliott Aviation\, Inc.6601 74th Ave Milan\, IL 61264
UID:e.2843.378
SEQUENCE:3
DTSTAMP:20260422T013501Z
URL:https://member.quadcitieschamber.com/events/details/clarksville-tn-chamber-visit-welcome-group-05-15-2012-378
END:VEVENT

END:VCALENDAR
