BEGIN:VCALENDAR
VERSION:2.0
PRODID:-//ChamberMaster//Event Calendar 2.0//EN
METHOD:PUBLISH
X-PUBLISHED-TTL:P3D
REFRESH-INTERVAL:P3D
CALSCALE:GREGORIAN
BEGIN:VEVENT
DTSTART:20190531T000000Z
DTEND:20190531T020000Z
X-MICROSOFT-CDO-ALLDAYEVENT:FALSE
SUMMARY:Class of '82 at Bass Street Landing
DESCRIPTION:With summer comes the sound of live outdoor music in our downtowns! Enjoy this free summer concert series every Thursday night from May 30   August 29.\n\n\n\nMoline Centre's Thursday Night Summer Concert Series takes place from 7:00 p.m. to 9:00 p.m. beginning the last Thursday in May until the last Thursday in August on the Plaza at Bass Street Landing. All you need to bring is a lawn chair! Food and beverages are available for purchase.\n\n\n\nThe Summer Concert Series is sponsored by Courtesy Car City and Townsquare Media. The series is presented by Moline Centre\, a division of the City of Moline representing downtown businesses and revitalization efforts.\n\n\n\nNo outside food or beverages allowed.\n\n\n\nLearn more: www.molinecentre.org
X-ALT-DESC;FMTTYPE=text/html:<span style="font-size:16px\;"><span style="font-family:arial\;">With summer comes the sound of live outdoor music in our downtowns! Enjoy this free summer concert series every Thursday night from May 30 &ndash\; August 29.<br />\n<br />\nMoline Centre&rsquo\;s Thursday Night Summer Concert Series takes place from 7:00 p.m. to 9:00 p.m. beginning the last Thursday in May until the last Thursday in August on the Plaza at Bass Street Landing. All you need to bring is a lawn chair! Food and beverages are available for purchase.<br />\n<br />\nThe Summer Concert Series is sponsored by Courtesy Car City and Townsquare Media. The series is presented by Moline Centre\, a division of the City of Moline representing downtown businesses and revitalization efforts.<br />\n<br />\nNo outside food or beverages allowed.<br />\n<br />\nLearn more: <a href="http://www.molinecentre.org">www.molinecentre.org</a></span></span>
LOCATION:Bass Street Landing
UID:e.2843.15387
SEQUENCE:3
DTSTAMP:20260422T150559Z
URL:https://member.quadcitieschamber.com/events/details/class-of-82-at-bass-street-landing-15387
END:VEVENT

END:VCALENDAR
