BEGIN:VCALENDAR
VERSION:2.0
PRODID:-//ChamberMaster//Event Calendar 2.0//EN
METHOD:PUBLISH
X-PUBLISHED-TTL:P3D
REFRESH-INTERVAL:P3D
CALSCALE:GREGORIAN
BEGIN:VEVENT
DTSTART:20190824T143000Z
DTEND:20190824T170000Z
X-MICROSOFT-CDO-ALLDAYEVENT:FALSE
SUMMARY:Climb Out of the Darkness
DESCRIPTION:The Climb Out of the Darkness is the world's largest event raising funds and awareness for the mental health of new families. We gather as a community to Climb and socialize. We meet fellow survivors\, supporters and providers to realize the power of unity - we are all in this together!\n\n\n\nOur team is raising money to benefit Postpartum Support International (PSI)\, an organization committed to providing invaluable support and resources to moms and their families as they struggle to overcome a postpartum mood disorder\, as well as working to defeat the stigma associated with maternal mental illness that so often prevents women from getting the help they need. You can find more information about PSI here https://www.postpartum.net/\n\n\n\nOur Climb will include a 60 minute class that includes breath work\, functional movement and restorative yoga....all with a theme of Climbing throughout the movements. We will have the Vibrant ice cream truck and vendor tables to allow you to connect with local resources. Please BYOM (Bring Your Own Mat or Towel) but we will have a small amount available if needed. Registration starts at 9:30am\, the Climb at 10:00am\, connection and ice cream at 11:00am!\n\n\n\nJoin the team and raise money and awareness!! You can join the team by visiting this website https://postpartum.z2systems.com/teamQuadCities. If you raise $100 or more\, you will win an awesome t-shirt!!! Please note: THERE IS NO OBLIGATION TO RAISE MONEY\; we would love to have you attend and move Climb with us whether or not you fundraise!!\n\n\n\nWe are mothers\, survivors and providers. We climb to let every mom know: You are not alone\, you are not to blame. With help you will be well.\n\n\n\nWe have setup a Facebook group and event and you can find them at  https://www.facebook.com/groups/444968796287351/ and https://www.facebook.com/events/503867967025719/?active_tab=about
X-ALT-DESC;FMTTYPE=text/html:<div>\n<div><span style="font-family:inherit">The Climb Out of the Darkness is the world&#39\;s largest event raising funds and awareness for the mental health of new families. We gather as a community to Climb and socialize. We meet fellow survivors\, supporters and providers to realize the power of unity - we are all in this together!<br />\n<br />\nOur team is raising money to benefit Postpartum Support International (PSI)\, an organization committed to providing invaluable support and resources to moms and their families as they struggle to overcome a postpartum mood disorder\, as well as working to defeat the stigma associated with maternal mental illness that so often prevents women from getting the help they need. You can find more information about PSI here <a href="https://www.postpartum.net/?fbclid=IwAR1kjhnQUUl3BSkGF-ly0Yazto2x2y_Ju8LN4okKI3Xpv-L-qJHUL5TBU-g" rel="nofollow noopener" style="color: rgb(56\, 88\, 152)\; cursor: pointer\; text-decoration-line: none\; font-family: inherit\;" target="_blank">https://www.postpartum.net/</a><br />\n<br />\nOur Climb will include a 60 minute class that includes breath work\, functional movement and restorative yoga....all with a theme of Climbing throughout the movements. We will have the Vibrant ice cream truck and vendor tables to allow you to connect with local resources. Please BYOM (Bring Your Own Mat or Towel) but we will have a small amount available if needed. Registration starts at 9:30am\, the Climb at 10:00am\, connection and ice cream at 11:00am!<br />\n<br />\nJoin the team and raise money and awareness!! You can join the team by visiting this website <a href="https://l.facebook.com/l.php?u=https%3A%2F%2Fpostpartum.z2systems.com%2FteamQuadCities%3Ffbclid%3DIwAR2fxyFtso9dW1BLsrRwoJatuFzR6_tuE3AJt3GWaLVMmtYWkD6eViiNcXk&amp\;h=AT2edONHov1wbv_smSqtyuSn3O7lcyjv-ND3M0kli88PqSliy2j6kXm-Npi7D_9ZLq1PLpr9BbLaW9u_5RVMoM-SqF-qX5OD6xBjjJ2eIuLdi-tpTf12qcJalIeJadiV" rel="nofollow noopener" style="color: rgb(56\, 88\, 152)\; cursor: pointer\; text-decoration-line: none\; font-family: inherit\;" target="_blank">https://postpartum.z2systems.com/teamQuadCities</a>. If you raise $100 or more\, you will win an awesome t-shirt!!! Please note: THERE IS NO OBLIGATION TO RAISE MONEY\; we would love to have you attend and move Climb with us whether or not you fundraise!!<br />\n<br />\nWe are mothers\, survivors and providers. We climb to let every mom know: You are not alone\, you are not to blame. With help you will be well.<br />\n<br />\nWe have setup a Facebook group and event and you can find them at&nbsp\; </span><a href="https://www.facebook.com/groups/444968796287351/">https://www.facebook.com/groups/444968796287351/</a>&nbsp\;<span style="font-family:inherit">and&nbsp\;</span><a href="https://www.facebook.com/events/503867967025719/?active_tab=about">https://www.facebook.com/events/503867967025719/?active_tab=about</a></div>\n</div>\n
LOCATION:Duck Creek Park\, Davenport
UID:e.2843.15473
SEQUENCE:3
DTSTAMP:20260422T100820Z
URL:https://member.quadcitieschamber.com/events/details/climb-out-of-the-darkness-15473
END:VEVENT

END:VCALENDAR
