BEGIN:VCALENDAR
VERSION:2.0
PRODID:-//ChamberMaster//Event Calendar 2.0//EN
METHOD:PUBLISH
X-PUBLISHED-TTL:P3D
REFRESH-INTERVAL:P3D
CALSCALE:GREGORIAN
BEGIN:VEVENT
DTSTART:20130815T190000Z
DTEND:20130815T193000Z
X-MICROSOFT-CDO-ALLDAYEVENT:FALSE
SUMMARY:Colohub Data Center Ribbon Cutting
DESCRIPTION:Please join Geneseo Communications\, Inc. in celebrating their new data center\, Colohub\, on Thursday\, August 15th at 2:00pm – Located at 2701 Devils Glenn\, Bettendorf. ColoHub is a state of the art carrier neutral data center located in Bettendorf\, Iowa.   For more information\, please visit www.colohub.com.
X-ALT-DESC;FMTTYPE=text/html:<P style="MARGIN: 0in 0in 0pt" class=MsoNormal><FONT face=Calibri>Please join Geneseo Communications\, Inc. in celebrating their new data center\, Colohub\, on <B style="mso-bidi-font-weight: normal">Thursday\, August 15<SUP>th</SUP> at 2:00pm</B> – Located at 2701 Devils Glenn\, Bettendorf.<?xml:namespace prefix = o ns = "urn:schemas-microsoft-com:office:office" /><o:p></o:p></FONT></P><P style="MARGIN: 0in 0in 0pt" class=MsoNormal><o:p><FONT face=Calibri>&nbsp\;</FONT></o:p></P><P style="MARGIN: 0in 0in 0pt" class=MsoNormal><FONT face=Calibri>ColoHub is a state of the art carrier neutral data center located in Bettendorf\, Iowa.<SPAN style="mso-spacerun: yes">&nbsp\; </SPAN><o:p></o:p></FONT></P><P style="MARGIN: 0in 0in 0pt" class=MsoNormal><o:p><FONT face=Calibri>&nbsp\;</FONT></o:p></P><P style="MARGIN: 0in 0in 0pt" class=MsoNormal><FONT face=Calibri>For more information\, please visit </FONT><A href="http://www.colohub.com"><FONT face=Calibri>www.colohub.com</FONT></A><FONT face=Calibri>.<o:p></o:p></FONT></P><DIV style="FONT-FAMILY: Arial">&nbsp\;</DIV>
LOCATION:ColoHub Data Center Services2701 Devils Glenn Bettendorf\, IA 52722
UID:e.2843.608
SEQUENCE:3
DTSTAMP:20260421T165951Z
URL:https://member.quadcitieschamber.com/events/details/colohub-data-center-ribbon-cutting-08-15-2013-608
END:VEVENT

END:VCALENDAR
