BEGIN:VCALENDAR
VERSION:2.0
PRODID:-//ChamberMaster//Event Calendar 2.0//EN
METHOD:PUBLISH
X-PUBLISHED-TTL:P3D
REFRESH-INTERVAL:P3D
CALSCALE:GREGORIAN
BEGIN:VEVENT
DTSTART:20130912T180000Z
DTEND:20130912T183000Z
X-MICROSOFT-CDO-ALLDAYEVENT:FALSE
SUMMARY:Comfort Inn Ribbon Cutting
DESCRIPTION:Please join the Comfort Inn in Moline in celebrating their newly remodeled facility on Thursday\, September 12th at 1:00 p.m. – Located at 2600 52nd Avenue in Moline.  The locally-owned Comfort Inn is a newly remodeled hotel that offers non-smoking guest rooms featuring free WIFI\, microwave\, refrigerator and flat screen televisions. The hotel also has an indoor pool\, whirlpool\, exercise room\, and hot complimentary breakfast buffet. The Comfort Inn has recently added a new elevator and exercise room.  For more information\, please visit http://www.comfortinn.com/hotel-moline-illinois-IL063  Thank You\,
X-ALT-DESC;FMTTYPE=text/html:<DIV style="FONT-FAMILY: Arial"><P style="MARGIN: 0in 0in 0pt" class=MsoNormal><FONT face=Calibri>Please join the Comfort Inn in Moline in celebrating their newly remodeled facility on <B style="mso-bidi-font-weight: normal">Thursday\, September 12<SUP>th</SUP> at 1:00 p.m.</B> – Located at 2600 52<SUP>nd</SUP> Avenue in Moline. <?xml:namespace prefix = o ns = "urn:schemas-microsoft-com:office:office" /><o:p></o:p></FONT></P><P style="MARGIN: 0in 0in 0pt" class=MsoNormal><o:p><FONT face=Calibri>&nbsp\;</FONT></o:p></P><P style="MARGIN: 0in 0in 0pt" class=MsoNormal><FONT face=Calibri>The locally-owned Comfort Inn is a newly remodeled hotel that offers non-smoking guest rooms featuring free WIFI\, microwave\, refrigerator and flat screen televisions. The hotel also has an indoor pool\, whirlpool\, exercise room\, and hot complimentary breakfast buffet. The Comfort Inn has recently added a new elevator and exercise room. <o:p></o:p></FONT></P><P style="MARGIN: 0in 0in 0pt" class=MsoNormal><o:p><FONT face=Calibri>&nbsp\;</FONT></o:p></P><P style="MARGIN: 0in 0in 0pt" class=MsoNormal><FONT face=Calibri>For more information\, please visit </FONT><A href="http://www.comfortinn.com/hotel-moline-illinois-IL063"><FONT face="Times New Roman">http://www.comfortinn.com/hotel-moline-illinois-IL063</FONT></A><FONT face=Calibri> <o:p></o:p></FONT></P><P style="MARGIN: 0in 0in 0pt" class=MsoNormal><o:p><FONT face=Calibri>&nbsp\;</FONT></o:p></P><P style="MARGIN: 0in 0in 0pt" class=MsoNormal><FONT face=Calibri>Thank You\, </FONT></P></DIV>
LOCATION:Comfort Inn - Airport2600 52nd Avenue Moline\, IL 61265
UID:e.2843.682
SEQUENCE:3
DTSTAMP:20260421T184245Z
URL:https://member.quadcitieschamber.com/events/details/comfort-inn-ribbon-cutting-09-12-2013-682
END:VEVENT

END:VCALENDAR
