BEGIN:VCALENDAR
VERSION:2.0
PRODID:-//ChamberMaster//Event Calendar 2.0//EN
METHOD:PUBLISH
X-PUBLISHED-TTL:P3D
REFRESH-INTERVAL:P3D
CALSCALE:GREGORIAN
BEGIN:VEVENT
DTSTART:20120101T060000Z
DTEND:20121201T060000Z
X-MICROSOFT-CDO-ALLDAYEVENT:FALSE
SUMMARY:Community Cultural Institutions
DESCRIPTION:Community Cultural Institutions
X-ALT-DESC;FMTTYPE=text/html:Community Cultural Institutions
LOCATION:
UID:e.2843.4428
SEQUENCE:3
DTSTAMP:20260421T134438Z
URL:https://member.quadcitieschamber.com/events/details/community-cultural-institutions-01-01-2012-4428
END:VEVENT

END:VCALENDAR
