BEGIN:VCALENDAR
VERSION:2.0
PRODID:-//ChamberMaster//Event Calendar 2.0//EN
METHOD:PUBLISH
X-PUBLISHED-TTL:P3D
REFRESH-INTERVAL:P3D
CALSCALE:GREGORIAN
BEGIN:VEVENT
DTSTART:20170212T000000Z
DTEND:20170212T040000Z
X-MICROSOFT-CDO-ALLDAYEVENT:FALSE
SUMMARY:Community Event: Quad Cities Interfaith Trivia Night
DESCRIPTION:Quad-Cities Interfaith will host a trivia night featuring tables of eight players. There also will be 50/50 raffles and other prizes. For more information or to reserve a table\, call 563-322-4910 or email qcinterfaith@gmail.com. $10 per player.
X-ALT-DESC;FMTTYPE=text/html:<span style="font-family:open sans\,sans-serif\; font-size:14px">Quad-Cities Interfaith will host a trivia night featuring tables of eight players. There also will be 50/50 raffles and other&nbsp\;prizes. For more information or to reserve a table\, call 563-322-4910 or email&nbsp\;</span><a href="mailto:qcinterfaith@gmail.com" style="box-sizing: border-box\; background-color: transparent\; color: rgb(0\, 108\, 183)\; text-decoration: none\; font-family: 'Open Sans'\, sans-serif\; font-size: 14px\;">qcinterfaith@gmail.com</a><span style="font-family:open sans\,sans-serif\; font-size:14px">. $10 per player.</span>
LOCATION:American Legion Hall\, 702 W. 35th Street Davenport
UID:e.2843.4697
SEQUENCE:3
DTSTAMP:20260424T070558Z
URL:https://member.quadcitieschamber.com/events/details/community-event-quad-cities-interfaith-trivia-night-4697
END:VEVENT

END:VCALENDAR
