BEGIN:VCALENDAR
VERSION:2.0
PRODID:-//ChamberMaster//Event Calendar 2.0//EN
METHOD:PUBLISH
X-PUBLISHED-TTL:P3D
REFRESH-INTERVAL:P3D
CALSCALE:GREGORIAN
BEGIN:VEVENT
DTSTART:20120410T150000Z
DTEND:20120410T153000Z
X-MICROSOFT-CDO-ALLDAYEVENT:FALSE
SUMMARY:Community Health Care Grand Re-Opening & Ribbon Cutting
DESCRIPTION:Please help us celebrate the grand re-opening and ribbon cutting for Community Health Care\, Inc. on Tuesday\, April 10th at 10:00am.  The address is 2750 11th Street in Rock Island. ·         Project made possible by funds from Affordable Care Act·         12 adult exam rooms\, 10 pediatric exam rooms\, 8 dental operatories\, 2900 sq. ft. meeting room·         New building has doubled the size of the previous dental clinic – from 4 operatories to 8·         Founded in 1975\, Community Health Care offers a medical and dental home for all those in need in the Quad Cities area.  It also acts as a safety net for people who\, for financial\, social or cultural reasons cannot access primary health care elsewhere in the community.  Community Health Care offers preventative\, acute and chronic care\, as well as laboratory\, x-ray\, pharmacy\, nutrition\, and health education services.  Without Community Health Care\, many patients would rely on emergency rooms during crisis\, or go without care altogether. For more information\, visit www.davchc.com
X-ALT-DESC;FMTTYPE=text/html:<DIV><FONT face=Calibri><P style="MARGIN: 0in 0in 0pt" class=MsoNormal>Please help us celebrate the grand re-opening and ribbon cutting for Community Health Care\, Inc. on Tuesday\, April 10<SUP>th</SUP> at 10:00am.<SPAN style="mso-spacerun: yes">&nbsp\; </SPAN>The address is 2750 11<SUP>th</SUP> Street in Rock Island.</P><P style="MARGIN: 0in 0in 0pt" class=MsoNormal><?xml:namespace prefix = o ns = "urn:schemas-microsoft-com:office:office" /><o:p>&nbsp\;</o:p></P><P style="TEXT-INDENT: -0.25in\; MARGIN: 0in 0in 0pt 0.5in\; mso-list: l0 level1 lfo1" class=MsoListParagraph><SPAN style="FONT-FAMILY: Symbol\; mso-fareast-font-family: Symbol\; mso-bidi-font-family: Symbol"><SPAN style="mso-list: Ignore">·<SPAN style="FONT: 7pt 'Times New Roman'">&nbsp\;&nbsp\;&nbsp\;&nbsp\;&nbsp\;&nbsp\;&nbsp\;&nbsp\; </SPAN></SPAN></SPAN>Project made possible by funds from Affordable Care Act</P><P style="TEXT-INDENT: -0.25in\; MARGIN: 0in 0in 0pt 0.5in\; mso-list: l0 level1 lfo1" class=MsoListParagraph><SPAN style="FONT-FAMILY: Symbol\; mso-fareast-font-family: Symbol\; mso-bidi-font-family: Symbol"><SPAN style="mso-list: Ignore">·<SPAN style="FONT: 7pt 'Times New Roman'">&nbsp\;&nbsp\;&nbsp\;&nbsp\;&nbsp\;&nbsp\;&nbsp\;&nbsp\; </SPAN></SPAN></SPAN>12 adult exam rooms\, 10 pediatric exam rooms\, 8 dental operatories\, 2900 sq. ft. meeting room</P><P style="TEXT-INDENT: -0.25in\; MARGIN: 0in 0in 0pt 0.5in\; mso-list: l0 level1 lfo1" class=MsoListParagraph><SPAN style="FONT-FAMILY: Symbol\; mso-fareast-font-family: Symbol\; mso-bidi-font-family: Symbol"><SPAN style="mso-list: Ignore">·<SPAN style="FONT: 7pt 'Times New Roman'">&nbsp\;&nbsp\;&nbsp\;&nbsp\;&nbsp\;&nbsp\;&nbsp\;&nbsp\; </SPAN></SPAN></SPAN>New building has doubled the size of the previous dental clinic – from 4 operatories to 8</P><P style="TEXT-INDENT: -0.25in\; MARGIN: 0in 0in 0pt 0.5in\; mso-list: l0 level1 lfo1" class=MsoListParagraph><SPAN style="FONT-FAMILY: Symbol\; mso-fareast-font-family: Symbol\; mso-bidi-font-family: Symbol"><SPAN style="mso-list: Ignore">·<SPAN style="FONT: 7pt 'Times New Roman'">&nbsp\;&nbsp\;&nbsp\;&nbsp\;&nbsp\;&nbsp\;&nbsp\;&nbsp\; </SPAN></SPAN></SPAN>Founded in 1975\, Community Health Care offers a medical and dental home for all those in need in the Quad Cities area.<SPAN style="mso-spacerun: yes">&nbsp\; </SPAN>It also acts as a safety net for people who\, for financial\, social or cultural reasons cannot access primary health care elsewhere in the community.<SPAN style="mso-spacerun: yes">&nbsp\; </SPAN>Community Health Care offers preventative\, acute and chronic care\, as well as laboratory\, x-ray\, pharmacy\, nutrition\, and health education services.<SPAN style="mso-spacerun: yes">&nbsp\; </SPAN>Without Community Health Care\, many patients would rely on emergency rooms during crisis\, or go without care altogether.</P><P style="MARGIN: 0in 0in 0pt 0.25in" class=MsoNormal><o:p>&nbsp\;</o:p></P><P style="MARGIN: 0in 0in 0pt 0.25in" class=MsoNormal>For more information\, visit <A href="http://www.davchc.com"><FONT face="Times New Roman">www.davchc.com</FONT></A></P><P style="MARGIN: 0in 0in 0pt" class=MsoNormal>&nbsp\;</P></FONT></DIV>
LOCATION:Community Health Care2750 11th Street Rock Island\, IL 61265
UID:e.2843.355
SEQUENCE:3
DTSTAMP:20260422T031917Z
URL:https://member.quadcitieschamber.com/events/details/community-health-care-grand-re-opening-ribbon-cutting-04-10-2012-355
END:VEVENT

END:VCALENDAR
