BEGIN:VCALENDAR
VERSION:2.0
PRODID:-//ChamberMaster//Event Calendar 2.0//EN
METHOD:PUBLISH
X-PUBLISHED-TTL:P3D
REFRESH-INTERVAL:P3D
CALSCALE:GREGORIAN
BEGIN:VEVENT
DTSTART:20120214T160000Z
DTEND:20120214T163000Z
X-MICROSOFT-CDO-ALLDAYEVENT:FALSE
SUMMARY:Community Health Care\, Inc Ground Breaking
DESCRIPTION:Community Health Care\, Inc. will hold a Ground Breaking for a new location on Tuesday\, February 14th at 10am.  The address is 708 – 15th Avenue in East Moline\, downtown East Moline at the corner of 7th Street and 15th Avenue.   They are working with Ryan Companies to put out a press release and I will provide more information once received. For more information regarding Community Health Care\, please visit www.davchc.com
X-ALT-DESC;FMTTYPE=text/html:<DIV><FONT face=Calibri><P style="MARGIN: 0in 0in 0pt" class=MsoNormal>Community Health Care\, Inc. will hold a Ground Breaking for a new location on Tuesday\, February 14<SUP>th</SUP> at 10am.<SPAN style="mso-spacerun: yes">&nbsp\; </SPAN>The address is 708 – 15<SUP>th</SUP> Avenue in East Moline\, downtown East Moline at the corner of 7<SUP>th</SUP> Street and 15<SUP>th</SUP> Avenue.<SPAN style="mso-spacerun: yes">&nbsp\; </SPAN></P><P style="MARGIN: 0in 0in 0pt" class=MsoNormal><?xml:namespace prefix = o ns = "urn:schemas-microsoft-com:office:office" /><o:p>&nbsp\;</o:p></P><P style="MARGIN: 0in 0in 0pt" class=MsoNormal>They are working with Ryan Companies to put out a press release and I will provide more information once received.</P><P style="MARGIN: 0in 0in 0pt" class=MsoNormal><o:p>&nbsp\;</o:p></P><P style="MARGIN: 0in 0in 0pt" class=MsoNormal>For more information regarding Community Health Care\, please visit <A href="http://www.davchc.com"><FONT face="Times New Roman">www.davchc.com</FONT></A></P><P style="MARGIN: 0in 0in 0pt" class=MsoNormal>&nbsp\;</P></FONT></DIV>
LOCATION:Community Health Care\, Inc.708 15th Avenue East Moline\, IL 61244
UID:e.2843.346
SEQUENCE:3
DTSTAMP:20260422T093551Z
URL:https://member.quadcitieschamber.com/events/details/community-health-care-inc-ground-breaking-02-14-2012-346
END:VEVENT

END:VCALENDAR
