BEGIN:VCALENDAR
VERSION:2.0
PRODID:-//ChamberMaster//Event Calendar 2.0//EN
METHOD:PUBLISH
X-PUBLISHED-TTL:P3D
REFRESH-INTERVAL:P3D
CALSCALE:GREGORIAN
BEGIN:VEVENT
DTSTART:20131203T190000Z
DTEND:20131203T193000Z
X-MICROSOFT-CDO-ALLDAYEVENT:FALSE
SUMMARY:Community Health Care Inc. Ribbon Cutting
DESCRIPTION:Join Community Health Care Inc.\, located at 303 W. 6th St. Davenport\, IA 52801\, in celebrating the renovation of their homeless medical clinic on Tuesday\, December 3rd at 11:00am.  http://mapq.st/IlLcaT.   More than 850 patients were treated last year at Community Health Care’s Homeless Outreach Clinic and 250 of those patients were children. Located in the Salvation Army Building on Harrison Street in Davenport\, Iowa\, this clinic provides free medical care to homeless individuals. “Our goal is to provide access to quality care offered with dignity and respect\,” Bob Davis\, director of the Homeless Outreach Clinic\, said. “Until recently\, our facilities did not match the kind of environment that we want to provide our patients\, and we were in need of updated medical equipment to serve these patients.” A $38\,500 grant from the Health Resources and Services Administration (HRSA) was used to give the clinic a facelift\, as well as replace outdated medical and office equipment. Renovations were completed at the end of this summer and patients are now benefitting from the updated exam rooms.  For more information\, please visit www.chcqca.org.
X-ALT-DESC;FMTTYPE=text/html:<P style="MARGIN: 0in 0in 0pt" class=MsoNormal><P style="LINE-HEIGHT: normal\; MARGIN: 0pt" class=MsoNormal><SPAN style="mso-bidi-font-family: 'Times New Roman'\; mso-ascii-font-family: Calibri\; mso-fareast-font-family: 'Times New Roman'\; mso-hansi-font-family: Calibri"><FONT face=Calibri>Join Community Health Care Inc.\, <B style="mso-bidi-font-weight: normal">located at 303 W. 6<SUP>th</SUP> St. Davenport\, IA 52801</B>\, in celebrating the renovation of their homeless medical clinic on Tuesday\, December 3<SUP>rd</SUP> at 11:00am.<SPAN style="mso-spacerun: yes">&nbsp\; </SPAN></FONT><A href="http://mapq.st/IlLcaT"><SPAN style="COLOR: blue"><FONT face=Calibri>http://mapq.st/IlLcaT</FONT></SPAN></A><FONT face=Calibri>.<SPAN style="mso-spacerun: yes">&nbsp\; </SPAN><?xml:namespace prefix = o ns = "urn:schemas-microsoft-com:office:office" /><o:p></o:p></FONT></SPAN></P><P style="LINE-HEIGHT: normal\; MARGIN: 0pt" class=MsoNormal><SPAN style="mso-bidi-font-family: 'Times New Roman'\; mso-ascii-font-family: Calibri\; mso-fareast-font-family: 'Times New Roman'\; mso-hansi-font-family: Calibri"><o:p><FONT face=Calibri>&nbsp\;</FONT></o:p></SPAN></P><P style="LINE-HEIGHT: normal\; MARGIN: 0pt\; VERTICAL-ALIGN: baseline" class=MsoNormal><SPAN style="mso-bidi-font-family: Arial\; mso-ascii-font-family: Calibri\; mso-fareast-font-family: 'Times New Roman'\; mso-hansi-font-family: Calibri"><FONT face=Calibri>More than 850 patients were treated last year at Community Health Care’s Homeless Outreach Clinic and 250 of those patients were children. Located in the Salvation Army Building on Harrison Street in Davenport\, Iowa\, this clinic provides free medical care to homeless individuals.<o:p></o:p></FONT></SPAN></P><P style="LINE-HEIGHT: normal\; MARGIN: 0pt\; VERTICAL-ALIGN: baseline" class=MsoNormal><SPAN style="mso-bidi-font-family: Arial\; mso-ascii-font-family: Calibri\; mso-fareast-font-family: 'Times New Roman'\; mso-hansi-font-family: Calibri"><o:p><FONT face=Calibri>&nbsp\;</FONT></o:p></SPAN></P><P style="LINE-HEIGHT: normal\; MARGIN: 0pt\; VERTICAL-ALIGN: baseline" class=MsoNormal><SPAN style="mso-bidi-font-family: Arial\; mso-ascii-font-family: Calibri\; mso-fareast-font-family: 'Times New Roman'\; mso-hansi-font-family: Calibri"><FONT face=Calibri>“Our goal is to provide access to quality care offered with dignity and respect\,” Bob Davis\, director of the Homeless Outreach Clinic\, said. “Until recently\, our facilities did not match the kind of environment that we want to provide our patients\, and we were in need of updated medical equipment to serve these patients.”<o:p></o:p></FONT></SPAN></P><P style="LINE-HEIGHT: normal\; MARGIN: 0pt\; VERTICAL-ALIGN: baseline" class=MsoNormal><SPAN style="mso-bidi-font-family: Arial\; mso-ascii-font-family: Calibri\; mso-fareast-font-family: 'Times New Roman'\; mso-hansi-font-family: Calibri"><o:p><FONT face=Calibri>&nbsp\;</FONT></o:p></SPAN></P><P style="LINE-HEIGHT: normal\; MARGIN: 0pt" class=MsoNormal><SPAN style="mso-bidi-font-family: Arial\; mso-ascii-font-family: Calibri\; mso-fareast-font-family: 'Times New Roman'\; mso-hansi-font-family: Calibri"><FONT face=Calibri>A $38\,500 grant from the Health Resources and Services Administration (HRSA) was used to give the clinic a facelift\, as well as replace outdated medical and office equipment. Renovations were completed at the end of this summer and patients are now benefitting from the updated exam rooms. <o:p></o:p></FONT></SPAN></P><P style="LINE-HEIGHT: normal\; MARGIN: 0pt" class=MsoNormal><SPAN style="mso-bidi-font-family: Arial\; mso-ascii-font-family: Calibri\; mso-fareast-font-family: 'Times New Roman'\; mso-hansi-font-family: Calibri"><o:p><FONT face=Calibri>&nbsp\;</FONT></o:p></SPAN></P><P style="LINE-HEIGHT: normal\; MARGIN: 0pt" class=MsoNormal><FONT face=Calibri><SPAN style="mso-bidi-font-family: Arial\; mso-ascii-font-family: Calibri\; mso-fareast-font-family: 'Times New Roman'\; mso-hansi-font-family: Calibri">For more information\, please visit </SPAN><SPAN style="COLOR: #1f497d\; mso-bidi-font-family: 'Times New Roman'\; mso-ascii-font-family: Calibri\; mso-fareast-font-family: 'Times New Roman'\; mso-hansi-font-family: Calibri"><A href="http://www.chcqca.org"><SPAN style="COLOR: blue">www.chcqca.org</SPAN></A>.<SPAN style="mso-spacerun: yes">&nbsp\; </SPAN></SPAN></FONT><SPAN style="mso-bidi-font-family: Arial\; mso-ascii-font-family: Calibri\; mso-fareast-font-family: 'Times New Roman'\; mso-hansi-font-family: Calibri"><o:p></o:p></SPAN></P><P>&nbsp\;</P>
LOCATION:Community Health Care500 West River Drive Davenport\, IA 52801
UID:e.2843.752
SEQUENCE:3
DTSTAMP:20260421T235509Z
URL:https://member.quadcitieschamber.com/events/details/community-health-care-inc-ribbon-cutting-12-03-2013-752
END:VEVENT

END:VCALENDAR
