BEGIN:VCALENDAR
VERSION:2.0
PRODID:-//ChamberMaster//Event Calendar 2.0//EN
METHOD:PUBLISH
X-PUBLISHED-TTL:P3D
REFRESH-INTERVAL:P3D
CALSCALE:GREGORIAN
BEGIN:VEVENT
DTSTART:20130326T150000Z
DTEND:20130326T153000Z
X-MICROSOFT-CDO-ALLDAYEVENT:FALSE
SUMMARY:Community Health Care Ribbon Cutting
DESCRIPTION:Please help Community Health Care celebrate their new location with a ribbon cutting on Tuesday\, March 26th at 10:00am.  Located at 708 15th Avenue in East Moline – corner of 15th Avenue and 7th Street. Community Health Care\, Inc. (CHC) is a Federally Qualified Health Center with a mission to serve the Quad Cities region with quality primary health care for all people in need. For more information\, please visit www.davchc.com.
X-ALT-DESC;FMTTYPE=text/html:<P style="MARGIN: 0in 0in 0pt" class=MsoNormal><FONT face=Calibri>Please help Community Health Care celebrate their new location with a ribbon cutting on Tuesday\, March 26<SUP>th</SUP> at 10:00am.<SPAN style="mso-spacerun: yes">&nbsp\; </SPAN>Located at 708 15<SUP>th</SUP> Avenue in East Moline – corner of 15<SUP>th</SUP> Avenue and 7<SUP>th</SUP> Street.</FONT></P><P style="MARGIN: 0in 0in 0pt" class=MsoNormal><?xml:namespace prefix = o ns = "urn:schemas-microsoft-com:office:office" /><o:p><FONT face=Calibri>&nbsp\;</FONT></o:p></P><P style="MARGIN: 0in 0in 0pt" class=MsoNormal><FONT face=Calibri>Community Health Care\, Inc. (CHC) is a Federally Qualified Health Center with a mission to serve the Quad Cities region with quality primary health care for all people in need.</FONT></P><P style="MARGIN: 0in 0in 0pt" class=MsoNormal><o:p><FONT face=Calibri>&nbsp\;</FONT></o:p></P><P style="MARGIN: 0in 0in 0pt" class=MsoNormal><FONT face=Calibri>For more information\, please visit </FONT><A href="http://www.davchc.com">www.davchc.com</A>.</P><DIV style="FONT-FAMILY: Arial">&nbsp\;</DIV>
LOCATION:Community Health Care708 15th Avenue East Moline\, IL
UID:e.2843.514
SEQUENCE:3
DTSTAMP:20260421T091714Z
URL:https://member.quadcitieschamber.com/events/details/community-health-care-ribbon-cutting-03-26-2013-514
END:VEVENT

END:VCALENDAR
