BEGIN:VCALENDAR
VERSION:2.0
PRODID:-//ChamberMaster//Event Calendar 2.0//EN
METHOD:PUBLISH
X-PUBLISHED-TTL:P3D
REFRESH-INTERVAL:P3D
CALSCALE:GREGORIAN
BEGIN:VEVENT
DTSTART:20120113T180000Z
DTEND:20120113T183000Z
X-MICROSOFT-CDO-ALLDAYEVENT:FALSE
SUMMARY:Complete Nutrition Ribbon Cutting
DESCRIPTION:
X-ALT-DESC;FMTTYPE=text/html:
LOCATION:Complete Nutrition3939 41st Avenue Dr. Moline\, IL 61265
UID:e.2843.326
SEQUENCE:3
DTSTAMP:20260422T110214Z
URL:https://member.quadcitieschamber.com/events/details/complete-nutrition-ribbon-cutting-01-13-2012-326
END:VEVENT

END:VCALENDAR
