BEGIN:VCALENDAR
VERSION:2.0
PRODID:-//ChamberMaster//Event Calendar 2.0//EN
METHOD:PUBLISH
X-PUBLISHED-TTL:P3D
REFRESH-INTERVAL:P3D
CALSCALE:GREGORIAN
BEGIN:VEVENT
DTSTART:20120420T160000Z
DTEND:20120420T163000Z
X-MICROSOFT-CDO-ALLDAYEVENT:FALSE
SUMMARY:Crawford Company Groundbreaking Ceremony for Expansion
DESCRIPTION:Crawford Company has announced groundbreaking ceremony plans for an expansion.  The ceremony will take place at 11am\, Friday\, April 20th at 1306 Mill Street in Rock Island’s Sunset Industrial Park. The company will be adding a 20\,000 square-foot building to accommodate a commitment to grow its’ manufacturing division\, Monoxivent.  Crawford’s other divisions will maintain space within the existing buildings.  The expansion will bring the cumulative facility size to 67\,000 square feet on 3.63 acres. Please visit www.crawford-company.com for more information.
X-ALT-DESC;FMTTYPE=text/html:<DIV style="FONT-FAMILY: Arial"><P style="MARGIN: 0in 0in 0pt" class=MsoNormal><SPAN style="FONT-FAMILY: 'Trebuchet MS'\,'sans-serif'\; FONT-SIZE: 9pt">Crawford Company has announced groundbreaking ceremony plans for an expansion.<SPAN style="mso-spacerun: yes">&nbsp\; </SPAN>The ceremony will take place at 11am\, Friday\, April 20<SUP>th</SUP> at 1306 Mill Street in Rock Island’s Sunset Industrial Park.<?xml:namespace prefix = o ns = "urn:schemas-microsoft-com:office:office" /><o:p></o:p></SPAN></P><P style="MARGIN: 0in 0in 0pt" class=MsoNormal><SPAN style="FONT-FAMILY: 'Trebuchet MS'\,'sans-serif'\; FONT-SIZE: 9pt"><o:p>&nbsp\;</o:p></SPAN></P><P style="MARGIN: 0in 0in 0pt" class=MsoNormal><SPAN style="FONT-FAMILY: 'Trebuchet MS'\,'sans-serif'\; FONT-SIZE: 9pt">The company will be adding a 20\,000 square-foot building to accommodate a commitment to grow its’ manufacturing division\, Monoxivent.<SPAN style="mso-spacerun: yes">&nbsp\; </SPAN>Crawford’s other divisions will maintain space within the existing buildings.<SPAN style="mso-spacerun: yes">&nbsp\; </SPAN>The expansion will bring the cumulative facility size to 67\,000 square feet on 3.63 acres.<o:p></o:p></SPAN></P><SPAN style="FONT-FAMILY: 'Trebuchet MS'\,'sans-serif'\; FONT-SIZE: 9pt"><o:p><P style="MARGIN: 0in 0in 0pt" class=MsoNormal><SPAN style="FONT-FAMILY: 'Trebuchet MS'\,'sans-serif'\; FONT-SIZE: 9pt"></SPAN>&nbsp\;</P><P style="MARGIN: 0in 0in 0pt" class=MsoNormal><SPAN style="FONT-FAMILY: 'Trebuchet MS'\,'sans-serif'\; FONT-SIZE: 9pt">Please visit <A href="http://www.crawford-company.com">www.crawford-company.com</A> for more information. <o:p></o:p></SPAN></P></o:p></SPAN></DIV>
LOCATION:Crawford Company1306 Mill Street Rock Island\, IL 61201
UID:e.2843.366
SEQUENCE:3
DTSTAMP:20260422T031614Z
URL:https://member.quadcitieschamber.com/events/details/crawford-company-groundbreaking-ceremony-for-expansion-04-20-2012-366
END:VEVENT

END:VCALENDAR
