BEGIN:VCALENDAR
VERSION:2.0
PRODID:-//ChamberMaster//Event Calendar 2.0//EN
METHOD:PUBLISH
X-PUBLISHED-TTL:P3D
REFRESH-INTERVAL:P3D
CALSCALE:GREGORIAN
BEGIN:VEVENT
DTSTART:20131010T200000Z
DTEND:20131010T203000Z
X-MICROSOFT-CDO-ALLDAYEVENT:FALSE
SUMMARY:Crawford Company Ribbon Cutting
DESCRIPTION:Please help Crawford Company celebrate their 20\,000 square foot\, $2 million expansion on Thursday\, October 10 at 3:00 p.m. at 1306 Mill Street in Rock Island.  Crawford Company specializes in heating\, ventilation\, air conditioning\, plumbing\, laser cutting\, specialty welded fabrication\, and custom architectural products. Crawford products and services are found within Quad Cities' commercial\, industrial\, and residential markets. Monoxivent\, a division of Crawford\, goes to market nationally and specializes in indoor air cleaning and fiberglass products. For more information\, www.crawford-company.com.
X-ALT-DESC;FMTTYPE=text/html:<DIV style="FONT-FAMILY: Arial"><P style="MARGIN: 0in 0in 0pt" class=MsoNormal><FONT face=Calibri>Please help Crawford Company celebrate their 20\,000 square foot\, $2 million expansion on Thursday\, October 10 at 3:00 p.m. at 1306 Mill Street in Rock Island. <?xml:namespace prefix = o ns = "urn:schemas-microsoft-com:office:office" /><o:p></o:p></FONT></P><P style="MARGIN: 0in 0in 0pt" class=MsoNormal><o:p><FONT face=Calibri>&nbsp\;</FONT></o:p></P><P style="MARGIN: 0in 0in 0pt" class=MsoNormal><FONT face=Calibri>Crawford Company specializes in heating\, ventilation\, air conditioning\, plumbing\, laser cutting\, specialty welded fabrication\, and custom architectural products. Crawford products and services are found within Quad Cities' commercial\, industrial\, and residential markets. Monoxivent\, a division of Crawford\, goes to market nationally and specializes in indoor air cleaning and fiberglass products.<o:p></o:p></FONT></P><P style="MARGIN: 0in 0in 0pt" class=MsoNormal><o:p><FONT face=Calibri>&nbsp\;</FONT></o:p></P><P style="MARGIN: 0in 0in 0pt" class=MsoNormal><FONT face=Calibri>For more information\, </FONT><A href="http://www.crawford-company.com"><FONT face="Times New Roman">www.crawford-company.com</FONT></A><FONT face=Calibri>.<o:p></o:p></FONT></P></DIV>
LOCATION:Crawford Company1306 Mill Street Rock Island\, IL 61201
UID:e.2843.724
SEQUENCE:3
DTSTAMP:20260421T203442Z
URL:https://member.quadcitieschamber.com/events/details/crawford-company-ribbon-cutting-10-10-2013-724
END:VEVENT

END:VCALENDAR
