BEGIN:VCALENDAR
VERSION:2.0
PRODID:-//ChamberMaster//Event Calendar 2.0//EN
METHOD:PUBLISH
X-PUBLISHED-TTL:P3D
REFRESH-INTERVAL:P3D
CALSCALE:GREGORIAN
BEGIN:VEVENT
DTSTART:20120824T150000Z
DTEND:20120824T153000Z
X-MICROSOFT-CDO-ALLDAYEVENT:FALSE
SUMMARY:Credit Island Bridge Ribbon Cutting
DESCRIPTION:Please join us in celebrating the grand opening of the Credit Island Bridge on Friday\, August 24th at 10am.
X-ALT-DESC;FMTTYPE=text/html:<P style="MARGIN: 0in 0in 0pt" class=MsoNormal><FONT face=Calibri>Please join us in celebrating the grand opening of the Credit Island Bridge on Friday\, August 24<SUP>th</SUP> at 10am.<SPAN style="mso-spacerun: yes">&nbsp\; </SPAN></FONT></P><DIV style="FONT-FAMILY: Arial">&nbsp\;</DIV>
LOCATION:Credit Island Park\, North west corner of the Island
UID:e.2843.417
SEQUENCE:3
DTSTAMP:20260421T220222Z
URL:https://member.quadcitieschamber.com/events/details/credit-island-bridge-ribbon-cutting-08-24-2012-417
END:VEVENT

END:VCALENDAR
