BEGIN:VCALENDAR
VERSION:2.0
PRODID:-//ChamberMaster//Event Calendar 2.0//EN
METHOD:PUBLISH
X-PUBLISHED-TTL:P3D
REFRESH-INTERVAL:P3D
CALSCALE:GREGORIAN
BEGIN:VEVENT
DTSTART:20121022T150000Z
DTEND:20121022T153000Z
X-MICROSOFT-CDO-ALLDAYEVENT:FALSE
SUMMARY:Credit Island Bridge Ribbon Cutting
DESCRIPTION:Please join the City of Davenport/Davenport Parks and Recreation Dept. for a ribbon cutting to celebrate the grand opening of the Credit Island Bridge on Monday\, October 22nd at 10:00am.  (This is being rescheduled from the original 8/24/2012 date)
X-ALT-DESC;FMTTYPE=text/html:<P style="MARGIN: 0in 0in 0pt" class=MsoNormal><FONT face=Calibri>Please join the City of Davenport/Davenport Parks and Recreation Dept. for a ribbon cutting to celebrate the grand opening of the Credit Island Bridge on Monday\, October 22<SUP>nd</SUP> at 10:00am.<SPAN style="mso-spacerun: yes">&nbsp\; </SPAN>(This is being rescheduled from the original 8/24/2012 date)</FONT></P><DIV>&nbsp\;</DIV>
LOCATION:Credit Island Park\, North west corner of the Island
UID:e.2843.444
SEQUENCE:3
DTSTAMP:20260421T170108Z
URL:https://member.quadcitieschamber.com/events/details/credit-island-bridge-ribbon-cutting-10-22-2012-444
END:VEVENT

END:VCALENDAR
