BEGIN:VCALENDAR
VERSION:2.0
PRODID:-//ChamberMaster//Event Calendar 2.0//EN
METHOD:PUBLISH
X-PUBLISHED-TTL:P3D
REFRESH-INTERVAL:P3D
CALSCALE:GREGORIAN
BEGIN:VEVENT
DTSTART:20121029T150000Z
DTEND:20121029T153000Z
X-MICROSOFT-CDO-ALLDAYEVENT:FALSE
SUMMARY:Credit Island Park\, North west corner of the Island
DESCRIPTION:Please join the City of Davenport/Davenport Parks and Recreation Dept. for a ribbon cutting to celebrate the grand opening of the Credit Island Bridge on Monday\, October 29th at 10:00am.  (This is being rescheduled again from the original 8/24/2012 date and the 10/22/2012 due to rain)
X-ALT-DESC;FMTTYPE=text/html:<P style="MARGIN: 0in 0in 0pt\; mso-layout-grid-align: none" class=MsoNormal><SPAN style="COLOR: black\; mso-bidi-font-family: Calibri"><FONT face=Calibri>Please join the City of Davenport/Davenport Parks and Recreation Dept. for a ribbon cutting to celebrate the grand opening of the Credit Island Bridge on Monday\, October 29th at 10:00am.<SPAN style="mso-spacerun: yes">&nbsp\; </SPAN>(This is being rescheduled again from the original 8/24/2012 date and the 10/22/2012 due to rain)</FONT></SPAN><SPAN style="FONT-FAMILY: 'Times New Roman'\,'serif'\; FONT-SIZE: 12pt"><?xml:namespace prefix = o ns = "urn:schemas-microsoft-com:office:office" /><o:p></o:p></SPAN></P><DIV style="FONT-FAMILY: Arial">&nbsp\;</DIV>
LOCATION:Credit Island Park\, North west corner of the Island
UID:e.2843.467
SEQUENCE:3
DTSTAMP:20260421T171233Z
URL:https://member.quadcitieschamber.com/events/details/credit-island-park-north-west-corner-of-the-island-10-29-2012-467
END:VEVENT

END:VCALENDAR
