BEGIN:VCALENDAR
VERSION:2.0
PRODID:-//ChamberMaster//Event Calendar 2.0//EN
METHOD:PUBLISH
X-PUBLISHED-TTL:P3D
REFRESH-INTERVAL:P3D
CALSCALE:GREGORIAN
BEGIN:VEVENT
DTSTART:20120414T160000Z
DTEND:20120414T163000Z
X-MICROSOFT-CDO-ALLDAYEVENT:FALSE
SUMMARY:Crow Creek Dog Park New Addition Dedication
DESCRIPTION:On Saturday\, April 14th at 11:00am\, a dedication ceremony will be held for a new addition to the Crow Creek Dog Park.  Located at 4800 N. Devils Glen Road\, the dog park was first opened in 2007 and has been an extremely popular park amenity since then!  One of the most requested improvements since then has been for a separate area for smaller dogs (under 25 pounds)\, timid dogs\, and older or less active dogs that still want to socialize and exercise.  The new area is about one acre in size\, and is attached to the southeast corner of the existing dog park.  The new section was made possible by several fund raisers that the Dog Park Committee has conducted\, as well as several donations. The dog park committee will be on hand to greet you and your pooch that day.  Bring your four legged best friend\, and join us to celebrate the ribbon cutting for the newest addition to the dog park.
X-ALT-DESC;FMTTYPE=text/html:<DIV style="FONT-FAMILY: Arial"><P style="MARGIN: 0in 0in 0pt" class=MsoNormal><SPAN style="FONT-FAMILY: 'Trebuchet MS'\,'sans-serif'\; FONT-SIZE: 9pt">On Saturday\, April 14<SUP>th</SUP> at 11:00am\, a dedication ceremony will be held for a new addition to the Crow Creek Dog Park.<SPAN style="mso-spacerun: yes">&nbsp\; </SPAN>Located at 4800 N. Devils Glen Road\, the dog park was first opened in 2007 and has been an extremely popular park amenity since then!<SPAN style="mso-spacerun: yes">&nbsp\; </SPAN>One of the most requested improvements since then has been for a separate area for smaller dogs (under 25 pounds)\, timid dogs\, and older or less active dogs that still want to socialize and exercise.<SPAN style="mso-spacerun: yes">&nbsp\; </SPAN>The new area is about one acre in size\, and is attached to the southeast corner of the existing dog park.<SPAN style="mso-spacerun: yes">&nbsp\; </SPAN>The new section was made possible by several fund raisers that the Dog Park Committee has conducted\, as well as several donations.<?xml:namespace prefix = o ns = "urn:schemas-microsoft-com:office:office" /><o:p></o:p></SPAN></P><P style="MARGIN: 0in 0in 0pt" class=MsoNormal><SPAN style="FONT-FAMILY: 'Trebuchet MS'\,'sans-serif'\; FONT-SIZE: 9pt"><o:p>&nbsp\;</o:p></SPAN></P><P style="MARGIN: 0in 0in 0pt" class=MsoNormal><SPAN style="FONT-FAMILY: 'Trebuchet MS'\,'sans-serif'\; FONT-SIZE: 9pt">The dog park committee will be on hand to greet you and your pooch that day.<SPAN style="mso-spacerun: yes">&nbsp\; </SPAN>Bring your four legged best friend\, and join us to celebrate the ribbon cutting for the newest addition to the dog park.<o:p></o:p></SPAN></P></DIV>
LOCATION:Crow Creek Dog Park4800 N. Devils Glen Road Bettendorf\, IA 52722
UID:e.2843.370
SEQUENCE:3
DTSTAMP:20260422T045350Z
URL:https://member.quadcitieschamber.com/events/details/crow-creek-dog-park-new-addition-dedication-04-14-2012-370
END:VEVENT

END:VCALENDAR
