BEGIN:VCALENDAR
VERSION:2.0
PRODID:-//ChamberMaster//Event Calendar 2.0//EN
METHOD:PUBLISH
X-PUBLISHED-TTL:P3D
REFRESH-INTERVAL:P3D
CALSCALE:GREGORIAN
BEGIN:VEVENT
DTSTART:20120706T210000Z
DTEND:20120706T213000Z
X-MICROSOFT-CDO-ALLDAYEVENT:FALSE
SUMMARY:Crust Stone Oven Pizza Ribbon Cutting
DESCRIPTION:Please help new member and new business\, Crust Stone Oven Pizza\, celebrate their grand opening with a ribbon cutting on Friday\, July 6th at 4:00pm.  Location is 2561 E. 53rd Avenue\, Bettendorf (near The Clubhouse\, Charm Boutique).  They plan to have representatives present from both the American Lung Association and the Alzheimer’s Association in order to present checks from the proceeds of their soft opening. Crust Pizzeria is a progressive new Neapolitan Pizza concept in Bettendorf\, Iowa.  They offer the freshest of ingredients coupled with an excellent beer\, wine and cocktail list.  Crust offers an exciting pub\, sunny patio and a social dining room that can be made available for daytime meetings or private events with the proper advanced negotiations (subject to certain restrictions).  Crust is a Dine-In only establishment\; carryout and delivery are not available.  They prefer that their guests enjoy the pizza fresh out of the oven.  Crust is now offering Night-Owl Specials!  From 10pm to midnight\, they have $2.50 Bud Light/Miller Lite Pints and $5 off all pitchers.  Fridays and Saturdays\, pizzas are served until midnight.  Crust is also honoring their fellow Service Industry workers by offering 20% off all menu items to anyone that brings in a check stub\, name tag\, or other proof that they are a member of the food service industry.
X-ALT-DESC;FMTTYPE=text/html:<DIV style="FONT-FAMILY: Arial"><FONT face=Calibri><P style="MARGIN: 0in 0in 0pt" class=MsoNormal>Please help new member and new business\, Crust Stone Oven Pizza\, celebrate their grand opening with a ribbon cutting on Friday\, July 6<SUP>th</SUP> at 4:00pm.<SPAN style="mso-spacerun: yes">&nbsp\; </SPAN>Location is 2561 E. 53<SUP>rd</SUP> Avenue\, Bettendorf (near The Clubhouse\, Charm Boutique).<SPAN style="mso-spacerun: yes">&nbsp\; </SPAN>They plan to have representatives present from both the American Lung Association and the Alzheimer’s Association in order to present checks from the proceeds of their soft opening.</P><P style="MARGIN: 0in 0in 0pt" class=MsoNormal><?xml:namespace prefix = o ns = "urn:schemas-microsoft-com:office:office" /><o:p>&nbsp\;</o:p></P><P style="MARGIN: 0in 0in 0pt" class=MsoNormal>Crust Pizzeria is a progressive new Neapolitan Pizza concept in Bettendorf\, Iowa.<SPAN style="mso-spacerun: yes">&nbsp\; </SPAN>They offer the freshest of ingredients coupled with an excellent beer\, wine and cocktail list.<SPAN style="mso-spacerun: yes">&nbsp\; </SPAN>Crust offers an exciting pub\, sunny patio and a social dining room that can be made available for daytime meetings or private events with the proper advanced negotiations (subject to certain restrictions).<SPAN style="mso-spacerun: yes">&nbsp\; </SPAN>Crust is a Dine-In only establishment\; carryout and delivery are not available.<SPAN style="mso-spacerun: yes">&nbsp\; </SPAN>They prefer that their guests enjoy the pizza fresh out of the oven.<SPAN style="mso-spacerun: yes">&nbsp\; </SPAN>Crust is now offering Night-Owl Specials!<SPAN style="mso-spacerun: yes">&nbsp\; </SPAN>From 10pm to midnight\, they have $2.50 Bud Light/Miller Lite Pints and $5 off all pitchers.<SPAN style="mso-spacerun: yes">&nbsp\; </SPAN>Fridays and Saturdays\, pizzas are served until midnight.<SPAN style="mso-spacerun: yes">&nbsp\; </SPAN>Crust is also honoring their fellow Service Industry workers by offering 20% off all menu items to anyone that brings in a check stub\, name tag\, or other proof that they are a member of the food service industry.</P><P style="MARGIN: 0in 0in 0pt" class=MsoNormal></FONT></P></DIV>
LOCATION:Crust Stone Oven Pizza2561 E. 53rd Avenue Bettendorf\, IA 52722
UID:e.2843.398
SEQUENCE:3
DTSTAMP:20260421T235055Z
URL:https://member.quadcitieschamber.com/events/details/crust-stone-oven-pizza-ribbon-cutting-07-06-2012-398
END:VEVENT

END:VCALENDAR
