BEGIN:VCALENDAR
VERSION:2.0
PRODID:-//ChamberMaster//Event Calendar 2.0//EN
METHOD:PUBLISH
X-PUBLISHED-TTL:P3D
REFRESH-INTERVAL:P3D
CALSCALE:GREGORIAN
BEGIN:VEVENT
DTSTART:20130129T150000Z
DTEND:20130129T153000Z
X-MICROSOFT-CDO-ALLDAYEVENT:FALSE
SUMMARY:Culver's - Bettendorf Ribbon Cutting
DESCRIPTION:Please help Culver’s of Bettendorf celebrate their grand opening with a ribbon cutting on Tuesday\, January 29\, 2013 at 9:00am.
X-ALT-DESC;FMTTYPE=text/html:<P style="MARGIN: 0in 0in 0pt\; mso-layout-grid-align: none" class=MsoNormal><SPAN style="FONT-SIZE: 12pt\; mso-ascii-font-family: Calibri\; mso-hansi-font-family: Calibri\; mso-bidi-font-family: Calibri"><FONT face=Calibri>Please help Culver’s of Bettendorf celebrate their grand opening with a ribbon cutting on Tuesday\, January 29\, 2013 at 9:00am.</FONT></SPAN><SPAN style="FONT-FAMILY: 'Arial'\,'sans-serif'\; FONT-SIZE: 12pt"><?xml:namespace prefix = o ns = "urn:schemas-microsoft-com:office:office" /><o:p></o:p></SPAN></P><DIV>&nbsp\;</DIV>
LOCATION:Culver's of Bettendorf2312 Spruce Hills Rd. Bettendorf\, IA 52722
UID:e.2843.497
SEQUENCE:3
DTSTAMP:20260421T121238Z
URL:https://member.quadcitieschamber.com/events/details/culver-s-bettendorf-ribbon-cutting-01-29-2013-497
END:VEVENT

END:VCALENDAR
