BEGIN:VCALENDAR
VERSION:2.0
PRODID:-//ChamberMaster//Event Calendar 2.0//EN
METHOD:PUBLISH
X-PUBLISHED-TTL:P3D
REFRESH-INTERVAL:P3D
CALSCALE:GREGORIAN
BEGIN:VEVENT
DTSTART:20121117T053000Z
DTEND:20121116T180000Z
X-MICROSOFT-CDO-ALLDAYEVENT:FALSE
SUMMARY:Cupcakes Muffins and More Ribbon Cutting
DESCRIPTION:Please help welcome new member\, Cupcakes Muffins and More\, to the Chamber with a ribbon cutting on Friday\, November 16th at 11:30am.  Located at 110 E. 2nd Street in downtown Davenport – directly across from the Radisson Hotel. Family owned/operated offering cupcakes\, muffins\, pies\, bars\, pastries\, canollis and cakes of all sizes.  They cater weddings and all types of receptions.  They for all special dietary needs. For more information\, please visit www.cupcakesmuffinsnmore.webs.com
X-ALT-DESC;FMTTYPE=text/html:<P style="MARGIN: 0in 0in 0pt" class=MsoNormal><FONT face=Calibri>Please help welcome new member\, Cupcakes Muffins and More\, to the Chamber with a ribbon cutting on Friday\, November 16<SUP>th</SUP> at 11:30am.<SPAN style="mso-spacerun: yes">&nbsp\; </SPAN>Located at 110 E. 2<SUP>nd</SUP> Street in downtown Davenport – directly across from the Radisson Hotel.</FONT></P><P style="MARGIN: 0in 0in 0pt" class=MsoNormal><?xml:namespace prefix = o ns = "urn:schemas-microsoft-com:office:office" /><o:p><FONT face=Calibri>&nbsp\;</FONT></o:p></P><P style="MARGIN: 0in 0in 0pt" class=MsoNormal><FONT face=Calibri>Family owned/operated offering cupcakes\, muffins\, pies\, bars\, pastries\, canollis and cakes of all sizes.<SPAN style="mso-spacerun: yes">&nbsp\; </SPAN>They cater weddings and all types of receptions.<SPAN style="mso-spacerun: yes">&nbsp\; </SPAN>They for all special dietary needs.</FONT></P><P style="MARGIN: 0in 0in 0pt" class=MsoNormal><o:p><FONT face=Calibri>&nbsp\;</FONT></o:p></P><P style="MARGIN: 0in 0in 0pt" class=MsoNormal><FONT face=Calibri>For more information\, please visit </FONT><A href="http://www.cupcakesmuffinsnmore.webs.com">www.cupcakesmuffinsnmore.webs.com</A><FONT face=Calibri> </FONT></P><DIV style="FONT-FAMILY: Arial">&nbsp\;</DIV>
LOCATION:Cupcakes Muffins and More L.L.C.110 E. 2nd Street Davenport\, IA 52801
UID:e.2843.473
SEQUENCE:3
DTSTAMP:20260421T152413Z
URL:https://member.quadcitieschamber.com/events/details/cupcakes-muffins-and-more-ribbon-cutting-11-16-2012-473
END:VEVENT

END:VCALENDAR
