BEGIN:VCALENDAR
VERSION:2.0
PRODID:-//ChamberMaster//Event Calendar 2.0//EN
METHOD:PUBLISH
X-PUBLISHED-TTL:P3D
REFRESH-INTERVAL:P3D
CALSCALE:GREGORIAN
BEGIN:VEVENT
DTSTART:20180519T140000Z
DTEND:20180519T163000Z
X-MICROSOFT-CDO-ALLDAYEVENT:FALSE
SUMMARY:Customer Service and Your Small Business
DESCRIPTION:Learn about customer service strategies for your small business. This seminar is geared particularly toward farmer's market vendors and will be offered simultaneously in English and Spanish. All community members are welcome!
X-ALT-DESC;FMTTYPE=text/html:Learn about customer service strategies for your small business. This seminar is geared particularly toward farmer&#39\;s market vendors and will be offered simultaneously in English and Spanish. All community members are welcome!
LOCATION:THE ESPERANZA CENTER 335 5th Avenue Moline\, IL 61265
UID:e.2843.10032
SEQUENCE:3
DTSTAMP:20260423T104752Z
URL:https://member.quadcitieschamber.com/events/details/customer-service-and-your-small-business-10032
END:VEVENT

END:VCALENDAR
