BEGIN:VCALENDAR
VERSION:2.0
PRODID:-//ChamberMaster//Event Calendar 2.0//EN
METHOD:PUBLISH
X-PUBLISHED-TTL:P3D
REFRESH-INTERVAL:P3D
CALSCALE:GREGORIAN
BEGIN:VEVENT
DTSTART:20190711T203000Z
DTEND:20190711T230000Z
X-MICROSOFT-CDO-ALLDAYEVENT:FALSE
SUMMARY:Cyber Security... In Plain English
DESCRIPTION:Join us for a seminar on Cyber Security where we break it down as simple as possible while doing it in a relaxing environment!  Free drinks and appetizers will be served during the event!\n\n\n\nPlease register online if you plan to attend or reach out to Ryan Harvey with any questions!\n\n\n\nhttps://winsorconsulting.com/registration
X-ALT-DESC;FMTTYPE=text/html:<span style="background-color:rgb(255\, 255\, 255)\; color:rgb(51\, 51\, 51)\; font-family:sans-serif\,arial\,verdana\,trebuchet ms\; font-size:13px">Join us for a seminar on Cyber Security where we break it down as simple as possible while doing it in a relaxing environment!&nbsp\; Free drinks and appetizers will be served during the event!<br />\n<br />\nPlease register online if you plan to attend or reach out to Ryan Harvey with any questions!</span><br />\n<br />\n<a href="https://winsorconsulting.com/registration">https://winsorconsulting.com/registration</a>
LOCATION:The Tangled Wood 3636 Tanglewood Rd. Bettendorf\, IA 52722
UID:e.2843.15414
SEQUENCE:3
DTSTAMP:20260422T113203Z
URL:https://member.quadcitieschamber.com/events/details/cyber-security-in-plain-english-15414
END:VEVENT

END:VCALENDAR
