BEGIN:VCALENDAR
VERSION:2.0
PRODID:-//ChamberMaster//Event Calendar 2.0//EN
METHOD:PUBLISH
X-PUBLISHED-TTL:P3D
REFRESH-INTERVAL:P3D
CALSCALE:GREGORIAN
BEGIN:VEVENT
DTSTART:20120214T060000Z
DTEND:20120216T060000Z
X-MICROSOFT-CDO-ALLDAYEVENT:FALSE
SUMMARY:D.C. Fly-In 2012
DESCRIPTION:The Quad Cities region has been successful in gaining federal support for many important priorities over the years\, thanks to the ongoing advocacy efforts of dozens of community leaders\, organizations and elected officials.  One of the most powerful advocacy tools at the Chamber’s disposal is the annual Washington D.C. Fly-In.  The success of the Quad Cities D.C. Fly-In centers on having a diverse delegation of community\, business\, labor and elected leaders speaking to members of Congress on a number of issues important to the future of the Quad Cities.
X-ALT-DESC;FMTTYPE=text/html:<P style="MARGIN: 0in 0in 0pt\; mso-layout-grid-align: none" class=MsoNormal align=center><SPAN style="FONT-FAMILY: 'Calibri'\,'sans-serif'\; FONT-SIZE: 10pt\; mso-ascii-theme-font: minor-latin\; mso-hansi-theme-font: minor-latin\; mso-bidi-font-family: Arial\; mso-bidi-font-weight: bold"><FONT size=3>The Quad Cities region has been successful in gaining federal support for many important priorities </FONT></SPAN></P><P style="MARGIN: 0in 0in 0pt\; mso-layout-grid-align: none" class=MsoNormal align=center><SPAN style="FONT-FAMILY: 'Calibri'\,'sans-serif'\; FONT-SIZE: 10pt\; mso-ascii-theme-font: minor-latin\; mso-hansi-theme-font: minor-latin\; mso-bidi-font-family: Arial\; mso-bidi-font-weight: bold"><FONT size=3>over the years\, thanks to the ongoing advocacy efforts of dozens of community leaders\, organizations </FONT></SPAN></P><P style="MARGIN: 0in 0in 0pt\; mso-layout-grid-align: none" class=MsoNormal align=center><SPAN style="FONT-FAMILY: 'Calibri'\,'sans-serif'\; FONT-SIZE: 10pt\; mso-ascii-theme-font: minor-latin\; mso-hansi-theme-font: minor-latin\; mso-bidi-font-family: Arial\; mso-bidi-font-weight: bold"><FONT size=3>and elected officials.<SPAN style="mso-spacerun: yes">&nbsp\; </SPAN>One of the most powerful advocacy tools at the Chamber’s disposal is the </FONT></SPAN></P><P style="MARGIN: 0in 0in 0pt\; mso-layout-grid-align: none" class=MsoNormal align=center><SPAN style="FONT-FAMILY: 'Calibri'\,'sans-serif'\; FONT-SIZE: 10pt\; mso-ascii-theme-font: minor-latin\; mso-hansi-theme-font: minor-latin\; mso-bidi-font-family: Arial\; mso-bidi-font-weight: bold"><FONT size=3>annual Washington D.C. Fly-In.<SPAN style="mso-spacerun: yes">&nbsp\; </SPAN>The success of the Quad Cities D.C. Fly-In centers on having a diverse </FONT></SPAN></P><P style="MARGIN: 0in 0in 0pt\; mso-layout-grid-align: none" class=MsoNormal align=center><SPAN style="FONT-FAMILY: 'Calibri'\,'sans-serif'\; FONT-SIZE: 10pt\; mso-ascii-theme-font: minor-latin\; mso-hansi-theme-font: minor-latin\; mso-bidi-font-family: Arial\; mso-bidi-font-weight: bold"><FONT size=3>delegation of community\, business\, labor and elected leaders speaking to members of Congress on a </FONT></SPAN></P><P style="MARGIN: 0in 0in 0pt\; mso-layout-grid-align: none" class=MsoNormal align=center><SPAN style="FONT-FAMILY: 'Calibri'\,'sans-serif'\; FONT-SIZE: 10pt\; mso-ascii-theme-font: minor-latin\; mso-hansi-theme-font: minor-latin\; mso-bidi-font-family: Arial\; mso-bidi-font-weight: bold"><FONT size=3>number </FONT></SPAN><SPAN style="FONT-FAMILY: 'Calibri'\,'sans-serif'\; FONT-SIZE: 10pt\; mso-ascii-theme-font: minor-latin\; mso-hansi-theme-font: minor-latin\; mso-bidi-font-family: Arial\; mso-bidi-font-weight: bold"><FONT size=3>of issues important to the future of the Quad Cities.<?xml:namespace prefix = o ns = "urn:schemas-microsoft-com:office:office" /><o:p></o:p></FONT></SPAN></P>
LOCATION:Washington D.C.
UID:e.2843.251
SEQUENCE:3
DTSTAMP:20260422T075658Z
URL:https://member.quadcitieschamber.com/events/details/d-c-fly-in-2012-02-14-2012-251
END:VEVENT

END:VCALENDAR
