BEGIN:VCALENDAR
VERSION:2.0
PRODID:-//ChamberMaster//Event Calendar 2.0//EN
METHOD:PUBLISH
X-PUBLISHED-TTL:P3D
REFRESH-INTERVAL:P3D
CALSCALE:GREGORIAN
BEGIN:VEVENT
DTSTART:20180710T170000Z
DTEND:20180710T180000Z
X-MICROSOFT-CDO-ALLDAYEVENT:FALSE
SUMMARY:D.R.E. Vet Biz Directory Reveal
DESCRIPTION:DownRange Excursions has implimented a next level\, multi platform buisness directory. The goal of this directory is to create a tool for DownRange Excursions to generate revenue to continue their mission. At the same time giving buisnesses the chance to be a part of that positive change in their community while advertising on a next level directory. This is a mobile firendly directory that is interactive with the user. Once either the standard or premium listing option is paid for\, the buisness then has direct access to their profile. Giving them the ability to build events\, embed youtube links to commercials about their buisness\, promotional deals\, and in depth descriptions of their buisness as well as a photo gallery. The user can update and make changes to their profile at their leisure without waiting for a technical representative to make the changes for them. The reveal will take place at Biaggi's Resturaunt in Davenport in the back room. Food will be provided. There is no cost to attend. It will be kicked off with special guest speaker Senator Neil Anderson. He will briefly talk about the change D.R.E. is working to make and the importance of the community coming together to support it. This will take place on a Tuesday from 12:00 p.m. to 1:00 p.m. Perfect as a working lunch for buisness owners looking to be a part of change and advertise their buisness at the same time on a next level directory.
X-ALT-DESC;FMTTYPE=text/html:DownRange Excursions has implimented a next level\, multi platform buisness directory. The goal of this directory is to create a tool for DownRange Excursions to generate revenue to continue their mission. At the same time giving buisnesses the chance to be a part of that positive change in their community while advertising on a next level directory. This is a mobile firendly directory that is interactive with the user. Once either the standard or premium listing option is paid for\, the buisness then has direct access to their profile. Giving them the ability to build events\, embed youtube links to commercials about their buisness\, promotional deals\, and in depth descriptions of their buisness as well as a photo gallery. The user can update and make changes to their profile at their leisure without waiting for a technical representative to make the changes for them. The reveal will take place at Biaggi&#39\;s Resturaunt in Davenport in the back room. Food will be provided. There is no cost to attend. It will be kicked off with special guest speaker Senator Neil Anderson. He will briefly talk about the change D.R.E. is working to make and the importance of the community coming together to support it. This will take place on a Tuesday from 12:00 p.m. to 1:00 p.m. Perfect as a working lunch for buisness owners looking to be a part of change and advertise their buisness at the same time on a next level directory.
LOCATION:Biaggis Ristorante Italliano 5195 Utica Ridge Rd. Davenport\, IA 52807
UID:e.2843.13337
SEQUENCE:3
DTSTAMP:20260423T074941Z
URL:https://member.quadcitieschamber.com/events/details/d-r-e-vet-biz-directory-reveal-07-10-2018-13337
END:VEVENT

END:VCALENDAR
