BEGIN:VCALENDAR
VERSION:2.0
PRODID:-//ChamberMaster//Event Calendar 2.0//EN
METHOD:PUBLISH
X-PUBLISHED-TTL:P3D
REFRESH-INTERVAL:P3D
CALSCALE:GREGORIAN
BEGIN:VEVENT
DTSTART:20090101T060000Z
DTEND:20091231T060000Z
X-MICROSOFT-CDO-ALLDAYEVENT:FALSE
SUMMARY:D1 Guide 2009
DESCRIPTION:D1 Guide 2009
X-ALT-DESC;FMTTYPE=text/html:D1 Guide 2009
LOCATION:
UID:e.2843.4147
SEQUENCE:3
DTSTAMP:20260424T043720Z
URL:https://member.quadcitieschamber.com/events/details/d1-guide-2009-01-01-2009-4147
END:VEVENT

END:VCALENDAR
