BEGIN:VCALENDAR
VERSION:2.0
PRODID:-//ChamberMaster//Event Calendar 2.0//EN
METHOD:PUBLISH
X-PUBLISHED-TTL:P3D
REFRESH-INTERVAL:P3D
CALSCALE:GREGORIAN
BEGIN:VEVENT
DTSTART:20121028T170000Z
DTEND:20121028T173000Z
X-MICROSOFT-CDO-ALLDAYEVENT:FALSE
SUMMARY:Dahl Ford 75th Anniversary & Ribbon Cutting
DESCRIPTION:Please help Dahl Ford celebrate their 75th Anniversary with a ribbon cutting on Sunday\, October 28th at noon.  Located at 1310 E. Kimberly Rd in Davenport. An official caravan through Davenport\, beginning at the Old Car Home\, 5215 Grand Avenue\, Davenport\, will begin at 10:00am and conclude at Dahl Ford\, 1310 E. Kimberly Road.  Then enjoy a classic car show\, prizes\, food and music. 1937 was a time of inventions.  The jet engine\, chocolate chips and Dahl Ford.  As Ford introduced its De Luxe Ford Line\, Harry Dahl opened his Ford doors in Davenport\, Iowa\, offering the Quad Cities the best in customer service.  That commitment has never changed. For more information\, please visit www.DahlFord.com. Thank you!
X-ALT-DESC;FMTTYPE=text/html:<DIV style="FONT-FAMILY: Arial"><P style="MARGIN: 0in 0in 0pt" class=MsoNormal><FONT face=Calibri>Please help Dahl Ford celebrate their 75<SUP>th</SUP> Anniversary with a ribbon cutting on Sunday\, October 28<SUP>th</SUP> at noon.<SPAN style="mso-spacerun: yes">&nbsp\; </SPAN>Located at 1310 E. Kimberly Rd in Davenport.</FONT></P><P style="MARGIN: 0in 0in 0pt" class=MsoNormal><?xml:namespace prefix = o ns = "urn:schemas-microsoft-com:office:office" /><o:p><FONT face=Calibri>&nbsp\;</FONT></o:p></P><P style="MARGIN: 0in 0in 0pt" class=MsoNormal><FONT face=Calibri>An official caravan through Davenport\, beginning at the Old Car Home\, 5215 Grand Avenue\, Davenport\, will begin at 10:00am and conclude at Dahl Ford\, 1310 E. Kimberly Road.<SPAN style="mso-spacerun: yes">&nbsp\; </SPAN>Then enjoy a classic car show\, prizes\, food and music.</FONT></P><P style="MARGIN: 0in 0in 0pt" class=MsoNormal><o:p><FONT face=Calibri>&nbsp\;</FONT></o:p></P><P style="MARGIN: 0in 0in 0pt" class=MsoNormal><FONT face=Calibri>1937 was a time of inventions.<SPAN style="mso-spacerun: yes">&nbsp\; </SPAN>The jet engine\, chocolate chips and Dahl Ford.<SPAN style="mso-spacerun: yes">&nbsp\; </SPAN>As Ford introduced its De Luxe Ford Line\, Harry Dahl opened his Ford doors in Davenport\, Iowa\, offering the Quad Cities the best in customer service.<SPAN style="mso-spacerun: yes">&nbsp\; </SPAN>That commitment has never changed.</FONT></P><P style="MARGIN: 0in 0in 0pt" class=MsoNormal><o:p><FONT face=Calibri>&nbsp\;</FONT></o:p></P><P style="MARGIN: 0in 0in 0pt" class=MsoNormal><FONT face=Calibri>For more information\, please visit </FONT><A href="http://www.DahlFord.com"><FONT face="Times New Roman">www.DahlFord.com</FONT></A>.</P><P style="MARGIN: 0in 0in 0pt" class=MsoNormal><o:p><FONT face=Calibri>&nbsp\;</FONT></o:p></P><P style="MARGIN: 0in 0in 0pt" class=MsoNormal><FONT face=Calibri>Thank you!</FONT></P></DIV>
LOCATION:Dahl Ford Davenport\, Inc.1310 E. Kimberly Rd. Davenport\, IA 52808
UID:e.2843.465
SEQUENCE:3
DTSTAMP:20260421T170344Z
URL:https://member.quadcitieschamber.com/events/details/dahl-ford-75th-anniversary-ribbon-cutting-10-28-2012-465
END:VEVENT

END:VCALENDAR
