BEGIN:VCALENDAR
VERSION:2.0
PRODID:-//ChamberMaster//Event Calendar 2.0//EN
METHOD:PUBLISH
X-PUBLISHED-TTL:P3D
REFRESH-INTERVAL:P3D
CALSCALE:GREGORIAN
BEGIN:VEVENT
DTSTART:20130611T210000Z
DTEND:20130611T213000Z
X-MICROSOFT-CDO-ALLDAYEVENT:FALSE
SUMMARY:Daily Decor LLC Ribbon Cutting
DESCRIPTION:Please help Daily Décor LLC celebrate their new business on Tuesday\, June 11th at 4pm.  The Ribbon Cutting will take place at the Davenport Chamber office located at 130 W. 2nd Street\, Davenport. Daily Décor is new to the Quad Cities and owner Chanda Massengale feels that she has a unique niche with this business.  She offers a variety of painting services including cabinet and countertop transformations to look like granite. For more information about Daily Décor\, please visit www.dailydecor.biz.
X-ALT-DESC;FMTTYPE=text/html:<P style="MARGIN: 0in 0in 0pt" class=MsoNormal><SPAN style="mso-ascii-font-family: Calibri\; mso-hansi-font-family: Calibri"><FONT face=Calibri>Please help Daily Décor LLC celebrate their new business on Tuesday\, June 11<SUP>th</SUP> at 4pm.<SPAN style="mso-spacerun: yes">&nbsp\; </SPAN>The Ribbon Cutting will take place at the Davenport Chamber office located at 130 W. 2<SUP>nd</SUP> Street\, Davenport.<?xml:namespace prefix = o ns = "urn:schemas-microsoft-com:office:office" /><o:p></o:p></FONT></SPAN></P><P style="MARGIN: 0in 0in 0pt" class=MsoNormal><SPAN style="mso-ascii-font-family: Calibri\; mso-hansi-font-family: Calibri"><o:p><FONT face=Calibri>&nbsp\;</FONT></o:p></SPAN></P><P style="MARGIN: 0in 0in 0pt" class=MsoNormal><SPAN style="mso-ascii-font-family: Calibri\; mso-hansi-font-family: Calibri"><FONT face=Calibri>Daily Décor is new to the Quad Cities and owner Chanda Massengale feels that she has a unique niche with this business.<SPAN style="mso-spacerun: yes">&nbsp\; </SPAN>She offers a variety of painting services including cabinet and countertop transformations to look like granite.<o:p></o:p></FONT></SPAN></P><P style="MARGIN: 0in 0in 0pt" class=MsoNormal><SPAN style="mso-ascii-font-family: Calibri\; mso-hansi-font-family: Calibri"><o:p><FONT face=Calibri>&nbsp\;</FONT></o:p></SPAN></P><P style="MARGIN: 0in 0in 0pt" class=MsoNormal><SPAN style="mso-ascii-font-family: Calibri\; mso-hansi-font-family: Calibri"><FONT face=Calibri>For more information about Daily Décor\, please visit </FONT><A href="http://www.dailydecor.biz"><FONT face=Calibri>www.dailydecor.biz</FONT></A><FONT face=Calibri>.<o:p></o:p></FONT></SPAN></P><DIV style="FONT-FAMILY: Arial">&nbsp\;</DIV>
LOCATION:Daily Decor LLC5040 N. Sturdevant St. Davenport\, IA 52806
UID:e.2843.595
SEQUENCE:3
DTSTAMP:20260421T134542Z
URL:https://member.quadcitieschamber.com/events/details/daily-decor-llc-ribbon-cutting-06-11-2013-595
END:VEVENT

END:VCALENDAR
