BEGIN:VCALENDAR
VERSION:2.0
PRODID:-//ChamberMaster//Event Calendar 2.0//EN
METHOD:PUBLISH
X-PUBLISHED-TTL:P3D
REFRESH-INTERVAL:P3D
CALSCALE:GREGORIAN
BEGIN:VEVENT
DTSTART:20130208T170000Z
DTEND:20130208T173000Z
X-MICROSOFT-CDO-ALLDAYEVENT:FALSE
SUMMARY:Davenport Comfort Inn & Suites Ribbon Cutting
DESCRIPTION:Please help Davenport Comfort Inn & Suites welcome new General Manager\, Tara Brackett to the area with a ribbon cutting on Friday\, February 8th at 11:00am.  Located at 8300 Northwest Boulevard in Davenport – next to the Flying “J” Truck Stop. For more information\, please visit www.choicehotels.com/hotel/IA125.
X-ALT-DESC;FMTTYPE=text/html:<P style="MARGIN: 0in 0in 0pt" class=MsoNormal><FONT face=Calibri>Please help Davenport Comfort Inn &amp\; Suites welcome new General Manager\, Tara Brackett to the area with a ribbon cutting on&nbsp\;Friday\, February&nbsp\;8th&nbsp\;at 11:00am.<SPAN style="mso-spacerun: yes">&nbsp\; </SPAN>Located at 8300 Northwest Boulevard in Davenport – next to the Flying “J” Truck Stop.<?xml:namespace prefix = o ns = "urn:schemas-microsoft-com:office:office" /><o:p></o:p></FONT></P><P style="MARGIN: 0in 0in 0pt" class=MsoNormal><o:p><FONT face=Calibri>&nbsp\;</FONT></o:p></P><P style="MARGIN: 0in 0in 0pt" class=MsoNormal><FONT face=Calibri>For more information\, please visit </FONT><A href="http://www.choicehotels.com/hotel/IA125">www.choicehotels.com/hotel/IA125</A><FONT face=Calibri>.<o:p></o:p></FONT></P><DIV style="FONT-FAMILY: Arial">&nbsp\;</DIV>
LOCATION:Comfort Inn & Suites - Davenport8300 Northwest Blvd. Davenport\, IA 52806
UID:e.2843.512
SEQUENCE:3
DTSTAMP:20260421T110511Z
URL:https://member.quadcitieschamber.com/events/details/davenport-comfort-inn-suites-ribbon-cutting-02-08-2013-512
END:VEVENT

END:VCALENDAR
