BEGIN:VCALENDAR
VERSION:2.0
PRODID:-//ChamberMaster//Event Calendar 2.0//EN
METHOD:PUBLISH
X-PUBLISHED-TTL:P3D
REFRESH-INTERVAL:P3D
CALSCALE:GREGORIAN
BEGIN:VEVENT
DTSTART:20130912T183000Z
DTEND:20130912T190000Z
X-MICROSOFT-CDO-ALLDAYEVENT:FALSE
SUMMARY:Davenport Community School District Ribbon Cutting
DESCRIPTION:Please join Davenport Community School District and DuTrac Community Credit Union in celebrating the launch of their new financial initiative on Thursday\, September 12th at 1:30 p.m. – Located at 3505 W. Locust St. Davenport\, IA 52803 (Davenport West High School).  http://mapq.st/18zTdiX.  Davenport West High school and DuTrac Community Credit Union have launched a collaborative project to provide students with real opportunities to learn how to manage their money\, along with hands-on work opportunities in the financial sector.  A branch credit union has opened at West High School with membership open to West High School students and staff members only.  Branch hours are currently 11 a.m.- 1 p.m. Monday\, Thursday\, Friday.   To learn more please visit http://www.davenportschools.org/our-schools/. \nThank You\,
X-ALT-DESC;FMTTYPE=text/html:<DIV style="FONT-FAMILY: Arial"><P style="MARGIN: 0in 0in 0pt" class=MsoNormal><FONT face=Calibri>Please join Davenport Community School District and DuTrac Community Credit Union in celebrating the launch of their new financial initiative on <B style="mso-bidi-font-weight: normal">Thursday\, September 12th at 1:30 p.m. – </B>Located at 3505 W. Locust St. Davenport\, IA 52803 (Davenport West High School).<SPAN style="mso-spacerun: yes">&nbsp\; </SPAN></FONT><A href="http://mapq.st/18zTdiX"><FONT face="Times New Roman">http://mapq.st/18zTdiX</FONT></A><FONT face=Calibri>. <?xml:namespace prefix = o ns = "urn:schemas-microsoft-com:office:office" /><o:p></o:p></FONT></P><P style="MARGIN: 0in 0in 0pt" class=MsoNormal><o:p><FONT face=Calibri>&nbsp\;</FONT></o:p></P><P style="MARGIN: 0in 0in 0pt" class=MsoNormal><FONT face=Calibri>Davenport West High school and DuTrac Community Credit Union have launched a collaborative project to provide students with real opportunities to learn how to manage their money\, along with hands-on work opportunities in the financial sector.<SPAN style="mso-spacerun: yes">&nbsp\; </SPAN>A branch credit union has opened at West High School with membership open to West High School students and staff members only.<SPAN style="mso-spacerun: yes">&nbsp\; </SPAN>Branch hours are currently 11 a.m.- 1 p.m. Monday\, Thursday\, Friday.<SPAN style="mso-spacerun: yes">&nbsp\; </SPAN><o:p></o:p></FONT></P><P style="MARGIN: 0in 0in 0pt" class=MsoNormal><o:p><FONT face=Calibri>&nbsp\;</FONT></o:p></P><P style="MARGIN: 0in 0in 0pt" class=MsoNormal><FONT face=Calibri>To learn more please visit </FONT><A href="http://www.davenportschools.org/our-schools/"><FONT face="Times New Roman">http://www.davenportschools.org/our-schools/</FONT></A><FONT face=Calibri>. <o:p></o:p></FONT></P><P style="MARGIN: 0in 0in 0pt" class=MsoNormal><BR><FONT face=Calibri>Thank You\,<o:p></o:p></FONT></P></DIV>
LOCATION:Davenport Community School Dis1606 Brady Street Davenport\, IA 52803
UID:e.2843.683
SEQUENCE:3
DTSTAMP:20260421T184407Z
URL:https://member.quadcitieschamber.com/events/details/davenport-community-school-district-ribbon-cutting-09-12-2013-683
END:VEVENT

END:VCALENDAR
