BEGIN:VCALENDAR
VERSION:2.0
PRODID:-//ChamberMaster//Event Calendar 2.0//EN
METHOD:PUBLISH
X-PUBLISHED-TTL:P3D
REFRESH-INTERVAL:P3D
CALSCALE:GREGORIAN
BEGIN:VEVENT
DTSTART:20111202T180000Z
DTEND:20111202T183000Z
X-MICROSOFT-CDO-ALLDAYEVENT:FALSE
SUMMARY:Davenport Community School District Ribbon Cutting
DESCRIPTION:Walcott School\, a school in the Davenport Community School District serving elementary and intermediate students in the Walcott and rural Davenport area\, will have a ribbon cutting  on Friday\, December 2nd at noon to celebrate an expansion.  Walcott\, Iowa has had a school since William Walcott donated $500 in 1855 for the construction of a school building.  Due to a growing population\, a new school was constructed in 1895 and by 1921 the school served students through the tenth grade.  Students completed their junior and senior years of high school at Davenport Central.  The Walcott Community School District was formed in 1955 to bring together many one-room schoolhouse districts and upgrade rural education.  The current building was constructed in 1956.  In 1965\, the Walcott School District was absorbed into the Davenport Community School District.  The current building serves both elementary and intermediate students\, grades K-8\, from Walcott and rural Davenport\, with a total enrollment of 593 students and 81 staff members.
X-ALT-DESC;FMTTYPE=text/html:<DIV><FONT face=Calibri><P style="MARGIN: 0in 0in 0pt" class=MsoNormal>Walcott School\, a school in the Davenport Community School District serving elementary and intermediate students in the Walcott and rural Davenport area\, will have a ribbon cutting<SPAN style="mso-spacerun: yes">&nbsp\; </SPAN>on Friday\, December 2<SUP>nd</SUP> at noon to celebrate an expansion. </P><P style="MARGIN: 0in 0in 0pt" class=MsoNormal><?xml:namespace prefix = o ns = "urn:schemas-microsoft-com:office:office" /><o:p>&nbsp\;</o:p></P><P style="MARGIN: 0in 0in 0pt" class=MsoNormal>Walcott\, Iowa has had a school since William Walcott donated $500 in 1855 for the construction of a school building.<SPAN style="mso-spacerun: yes">&nbsp\; </SPAN>Due to a growing population\, a new school was constructed in 1895 and by 1921 the school served students through the tenth grade.<SPAN style="mso-spacerun: yes">&nbsp\; </SPAN>Students completed their junior and senior years of high school at Davenport Central.<SPAN style="mso-spacerun: yes">&nbsp\; </SPAN>The Walcott Community School District was formed in 1955 to bring together many one-room schoolhouse districts and upgrade rural education.<SPAN style="mso-spacerun: yes">&nbsp\; </SPAN>The current building was constructed in 1956.<SPAN style="mso-spacerun: yes">&nbsp\; </SPAN>In 1965\, the Walcott School District was absorbed into the Davenport Community School District.<SPAN style="mso-spacerun: yes">&nbsp\; </SPAN>The current building serves both elementary and intermediate students\, grades K-8\, from Walcott and rural Davenport\, with a total enrollment of 593 students and 81 staff members.</P><P style="MARGIN: 0in 0in 0pt" class=MsoNormal></FONT></P></DIV>
LOCATION:Walcott School545 E. James Street Walcott\, IA 52773
UID:e.2843.307
SEQUENCE:3
DTSTAMP:20260422T111446Z
URL:https://member.quadcitieschamber.com/events/details/davenport-community-school-district-ribbon-cutting-12-02-2011-307
END:VEVENT

END:VCALENDAR
