BEGIN:VCALENDAR
VERSION:2.0
PRODID:-//ChamberMaster//Event Calendar 2.0//EN
METHOD:PUBLISH
X-PUBLISHED-TTL:P3D
REFRESH-INTERVAL:P3D
CALSCALE:GREGORIAN
BEGIN:VEVENT
DTSTART:20131210T180000Z
DTEND:20131210T183000Z
X-MICROSOFT-CDO-ALLDAYEVENT:FALSE
SUMMARY:Davenport Community School District Ribbon Cutting
DESCRIPTION:Please join The Davenport Community School District in celebrating a series of renovation projects at North High School\, totaling $2.2 million.  The ribbon cutting ceremony will take place at North High School\, located at 626 West 53rd St. Davenport\, IA 52806\, on Tuesday\, December 10th at 12:00pm.  http://mapq.st/18B0fJt.   North High School was originally built as a junior high school in 1972.  The recent renovation has included the IMC (school library)\, music rooms and the Family & Consumer Science classrooms.  The funding of the approximately 5500 sq. ft. renovation came from the Statewide penny sales tax funds which are allocated to Iowa public school districts for infrastructure renovation and new construction.   For more information\, please visit www.davenportschools.org. Jason Gilliland\, Director of Events for the Downtown Partnership\, will be speaking on behalf of the Quad Cities Chamber of Commerce. Regards\,
X-ALT-DESC;FMTTYPE=text/html:<P style="MARGIN: 0in 0in 0pt" class=MsoNormal><P style="MARGIN: 0in 0in 0pt" class=MsoNormal><FONT face=Calibri>Please join The Davenport Community School District in celebrating a series of renovation projects at North High School\, totaling $2.2 million.<SPAN style="mso-spacerun: yes">&nbsp\; </SPAN>The ribbon cutting ceremony will take place at North High School\, <B style="mso-bidi-font-weight: normal">located at 626 West 53<SUP>rd</SUP> St. Davenport\, IA 52806</B>\, on Tuesday\, <B style="mso-bidi-font-weight: normal">December 10<SUP>th</SUP> at 12:00pm</B>.<SPAN style="mso-spacerun: yes">&nbsp\; </SPAN></FONT><A href="http://mapq.st/18B0fJt">http://mapq.st/18B0fJt</A><FONT face=Calibri>.<SPAN style="mso-spacerun: yes">&nbsp\; </SPAN><?xml:namespace prefix = o ns = "urn:schemas-microsoft-com:office:office" /><o:p></o:p></FONT></P><P style="MARGIN: 0in 0in 0pt" class=MsoNormal><o:p><FONT face=Calibri>&nbsp\;</FONT></o:p></P><P style="MARGIN: 0in 0in 0pt" class=MsoNormal><FONT face=Calibri>North High School was originally built as a junior high school in 1972.<SPAN style="mso-spacerun: yes">&nbsp\; </SPAN>The recent renovation has included the IMC (school library)\, music rooms and the Family &amp\; Consumer Science classrooms.<SPAN style="mso-spacerun: yes">&nbsp\; </SPAN>The funding of the approximately 5500 sq. ft. renovation came from the Statewide penny sales tax funds which are allocated to Iowa public school districts for infrastructure renovation and new construction.<SPAN style="mso-spacerun: yes">&nbsp\; </SPAN><o:p></o:p></FONT></P><P style="MARGIN: 0in 0in 0pt" class=MsoNormal><o:p><FONT face=Calibri>&nbsp\;</FONT></o:p></P><P style="MARGIN: 0in 0in 0pt" class=MsoNormal><FONT face=Calibri>For more information\, please visit </FONT><A href="http://www.davenportschools.org">www.davenportschools.org</A><FONT face=Calibri>.<o:p></o:p></FONT></P><P style="MARGIN: 0in 0in 0pt" class=MsoNormal><o:p><FONT face=Calibri>&nbsp\;</FONT></o:p></P><P style="MARGIN: 0in 0in 0pt" class=MsoNormal><FONT face=Calibri>Jason Gilliland\, Director of Events for the Downtown Partnership\, will be speaking on behalf of the Quad Cities Chamber of Commerce.<o:p></o:p></FONT></P><P style="MARGIN: 0in 0in 0pt" class=MsoNormal><o:p><FONT face=Calibri>&nbsp\;</FONT></o:p></P><P style="MARGIN: 0in 0in 0pt" class=MsoNormal><FONT face=Calibri>Regards\, <o:p></o:p></FONT></P><P>&nbsp\;</P>
LOCATION:Davenport Community School Dis1606 Brady Street Davenport\, IA 52803
UID:e.2843.755
SEQUENCE:3
DTSTAMP:20260421T235244Z
URL:https://member.quadcitieschamber.com/events/details/davenport-community-school-district-ribbon-cutting-12-10-2013-755
END:VEVENT

END:VCALENDAR
