BEGIN:VCALENDAR
VERSION:2.0
PRODID:-//ChamberMaster//Event Calendar 2.0//EN
METHOD:PUBLISH
X-PUBLISHED-TTL:P3D
REFRESH-INTERVAL:P3D
CALSCALE:GREGORIAN
BEGIN:VEVENT
DTSTART:20130220T180000Z
DTEND:20130220T183000Z
X-MICROSOFT-CDO-ALLDAYEVENT:FALSE
SUMMARY:Davenport Community Schools Ribbon Cutting
DESCRIPTION:Please help Davenport Community Schools celebrate their new “Lead the Way” program with a ribbon cutting on Wednesday\, February 20th at noon.  Located at West High School\, 3505 W. Locust Street in Davenport. K-12 public education\, serving 15\,841 students\; 2nd largest employer in Davenport\; district covers 109 square miles\, 36 total buildings\; including early childhood\, operations\, Brady Street Stadium For more information\, please visit www.davenportschools.org.
X-ALT-DESC;FMTTYPE=text/html:<P style="MARGIN: 0in 0in 0pt" class=MsoNormal><FONT face=Calibri>Please help Davenport Community Schools celebrate their new “Lead the Way” program with a ribbon cutting on Wednesday\, February 20<SUP>th</SUP> at noon.<SPAN style="mso-spacerun: yes">&nbsp\; </SPAN>Located at West High School\, 3505 W. Locust Street in Davenport.</FONT></P><P style="MARGIN: 0in 0in 0pt" class=MsoNormal><?xml:namespace prefix = o ns = "urn:schemas-microsoft-com:office:office" /><o:p><FONT face=Calibri>&nbsp\;</FONT></o:p></P><P style="MARGIN: 0in 0in 0pt" class=MsoNormal><FONT face=Calibri>K-12 public education\, serving 15\,841 students\; 2<SUP>nd</SUP> largest employer in Davenport\; district covers 109 square miles\, 36 total buildings\; including early childhood\, operations\, Brady Street Stadium</FONT></P><P style="MARGIN: 0in 0in 0pt" class=MsoNormal><o:p><FONT face=Calibri>&nbsp\;</FONT></o:p></P><P style="MARGIN: 0in 0in 0pt" class=MsoNormal><FONT face=Calibri>For more information\, please visit </FONT><A href="http://www.davenportschools.org">www.davenportschools.org</A>.</P><DIV style="FONT-FAMILY: Arial">&nbsp\;</DIV>
LOCATION:West High School3505 W. Locust St\, Davenport\, IA
UID:e.2843.521
SEQUENCE:3
DTSTAMP:20260421T110208Z
URL:https://member.quadcitieschamber.com/events/details/davenport-community-schools-ribbon-cutting-02-20-2013-521
END:VEVENT

END:VCALENDAR
