BEGIN:VCALENDAR
VERSION:2.0
PRODID:-//ChamberMaster//Event Calendar 2.0//EN
METHOD:PUBLISH
X-PUBLISHED-TTL:P3D
REFRESH-INTERVAL:P3D
CALSCALE:GREGORIAN
BEGIN:VEVENT
DTSTART:20130501T170000Z
DTEND:20130501T173000Z
X-MICROSOFT-CDO-ALLDAYEVENT:FALSE
SUMMARY:Davenport Noon Lions Ribbon Cutting
DESCRIPTION:Please help celebrate new member\, Davenport Noon Lions\, with a ribbon cutting on Wednesday\, May 1st\, 2013 at noon.  They meet at the Clarion Hotel & Conference Center\, 5202 N. Brady St. in Davenport. For more information\, please visit www.iowalions.org/davenporthost
X-ALT-DESC;FMTTYPE=text/html:<P style="MARGIN: 0in 0in 0pt" class=MsoNormal><FONT face=Calibri>Please help celebrate new member\, Davenport Noon Lions\, with a ribbon cutting on Wednesday\, May 1<SUP>st</SUP>\, 2013 at noon.<SPAN style="mso-spacerun: yes">&nbsp\; </SPAN>They meet at the Clarion Hotel &amp\; Conference Center\, 5202 N. Brady St. in Davenport.</FONT></P><P style="MARGIN: 0in 0in 0pt" class=MsoNormal><?xml:namespace prefix = o ns = "urn:schemas-microsoft-com:office:office" /><o:p><FONT face=Calibri>&nbsp\;</FONT></o:p></P><P style="MARGIN: 0in 0in 0pt" class=MsoNormal><FONT face=Calibri>For more information\, please visit </FONT><A href="http://www.iowalions.org/davenporthost">www.iowalions.org/davenporthost</A><FONT face=Calibri> </FONT></P><DIV style="FONT-FAMILY: Arial">&nbsp\;</DIV>
LOCATION:Clarion Hotel and Conference Center5202 Brady St Davenport\, IA 52806
UID:e.2843.511
SEQUENCE:3
DTSTAMP:20260421T121325Z
URL:https://member.quadcitieschamber.com/events/details/davenport-noon-lions-ribbon-cutting-05-01-2013-511
END:VEVENT

END:VCALENDAR
