BEGIN:VCALENDAR
VERSION:2.0
PRODID:-//ChamberMaster//Event Calendar 2.0//EN
METHOD:PUBLISH
X-PUBLISHED-TTL:P3D
REFRESH-INTERVAL:P3D
CALSCALE:GREGORIAN
BEGIN:VEVENT
DTSTART:20120917T163000Z
DTEND:20120917T170000Z
X-MICROSOFT-CDO-ALLDAYEVENT:FALSE
SUMMARY:Davenport Public Library\, Eastern Ave Branch Ribbon Cutting
DESCRIPTION:Please help the Davenport Public Library\, Eastern Avenue Branch\, celebrate the grand re-opening of the branch library coffee shop (contracted by Bayside Smoothies) with a ribbon cutting on Monday\, September 17th\, 2012 at 11:30am.  Located at 6000 Eastern Avenue in Davenport – north of 53rd St. For more information regarding the library\, visit www.davenportlibrary.com
X-ALT-DESC;FMTTYPE=text/html:<P style="MARGIN: 0in 0in 0pt" class=MsoNormal><FONT face=Calibri>Please help the Davenport Public Library\, Eastern Avenue Branch\, celebrate the grand re-opening of the branch library coffee shop (contracted by Bayside Smoothies) with a ribbon cutting on Monday\, September 17<SUP>th</SUP>\, 2012 at 11:30am.<SPAN style="mso-spacerun: yes">&nbsp\; </SPAN>Located at 6000 Eastern Avenue in Davenport – north of 53<SUP>rd</SUP> St.</FONT></P><P style="MARGIN: 0in 0in 0pt" class=MsoNormal><?xml:namespace prefix = o ns = "urn:schemas-microsoft-com:office:office" /><o:p><FONT face=Calibri>&nbsp\;</FONT></o:p></P><P style="MARGIN: 0in 0in 0pt" class=MsoNormal><FONT face=Calibri>For more information regarding the library\, visit </FONT><A href="http://www.davenportlibrary.com">www.davenportlibrary.com</A><FONT face=Calibri> </FONT></P><DIV style="FONT-FAMILY: Arial">&nbsp\;</DIV>
LOCATION:Davenport Public Library321 Main St. Davenport\, IA 52801
UID:e.2843.424
SEQUENCE:3
DTSTAMP:20260421T201805Z
URL:https://member.quadcitieschamber.com/events/details/davenport-public-library-eastern-ave-branch-ribbon-cutting-09-17-2012-424
END:VEVENT

END:VCALENDAR
