BEGIN:VCALENDAR
VERSION:2.0
PRODID:-//ChamberMaster//Event Calendar 2.0//EN
METHOD:PUBLISH
X-PUBLISHED-TTL:P3D
REFRESH-INTERVAL:P3D
CALSCALE:GREGORIAN
BEGIN:VEVENT
DTSTART:20120918T163000Z
DTEND:20120918T170000Z
X-MICROSOFT-CDO-ALLDAYEVENT:FALSE
SUMMARY:Davenport Public Library\, Fairmount Street Branch Ribbon Cutting
DESCRIPTION:Please help the Davenport Public Library\, Fairmount Street Branch\, celebrate the grand re-opening of the branch library coffee shop (contracted by Bayside Smoothies) with a ribbon cutting on Tuesday\, September 18th\, 2012 at 11:30am.  Located at 3000 N. Fairmount Street in Davenport – north of Central Park For more information regarding the library\, visit www.davenportlibrary.com
X-ALT-DESC;FMTTYPE=text/html:<P style="MARGIN: 0in 0in 0pt" class=MsoNormal><FONT face=Calibri>Please help the Davenport Public Library\, Fairmount Street Branch\, celebrate the grand re-opening of the branch library coffee shop (contracted by Bayside Smoothies) with a ribbon cutting on Tuesday\, September 18<SUP>th</SUP>\, 2012 at 11:30am.<SPAN style="mso-spacerun: yes">&nbsp\; </SPAN>Located at 3000 N. Fairmount Street in Davenport – north of Central Park</FONT></P><P style="MARGIN: 0in 0in 0pt" class=MsoNormal><?xml:namespace prefix = o ns = "urn:schemas-microsoft-com:office:office" /><o:p><FONT face=Calibri>&nbsp\;</FONT></o:p></P><P style="MARGIN: 0in 0in 0pt" class=MsoNormal><FONT face=Calibri>For more information regarding the library\, visit </FONT><A href="http://www.davenportlibrary.com"><FONT face="Times New Roman">www.davenportlibrary.com</FONT></A><FONT face=Calibri> </FONT></P><DIV>&nbsp\;</DIV>
LOCATION:Davenport Public Library\, Fairmount Street Branch3000 N. Fairmount Davenport\,
UID:e.2843.425
SEQUENCE:3
DTSTAMP:20260421T202838Z
URL:https://member.quadcitieschamber.com/events/details/davenport-public-library-fairmount-street-branch-ribbon-cutting-09-18-2012-425
END:VEVENT

END:VCALENDAR
