BEGIN:VCALENDAR
VERSION:2.0
PRODID:-//ChamberMaster//Event Calendar 2.0//EN
METHOD:PUBLISH
X-PUBLISHED-TTL:P3D
REFRESH-INTERVAL:P3D
CALSCALE:GREGORIAN
BEGIN:VEVENT
DTSTART:20120807T203000Z
DTEND:20120807T210000Z
X-MICROSOFT-CDO-ALLDAYEVENT:FALSE
SUMMARY:Davenport Rail Spur Ribbon Cutting Ceremony
DESCRIPTION:Please join the City of Davenport in celebrating the long-awaited inauguration of the new rail spur to serve the Eastern Iowa Industrial Center.  Senator Harkin will be in attendance to commemorate the occasion. Tuesday\, August 7\, 20123:30pm601 E. Blackhawk Trail Rd.\, Eldridge\, IA
X-ALT-DESC;FMTTYPE=text/html:<P style="MARGIN: 0in 0in 0pt" class=MsoNormal><FONT face=Calibri>Please join the City of Davenport in celebrating the long-awaited inauguration of the new rail spur to serve the Eastern Iowa Industrial Center.<SPAN style="mso-spacerun: yes">&nbsp\; </SPAN>Senator Harkin will be in attendance to commemorate the occasion.</FONT></P><P style="MARGIN: 0in 0in 0pt" class=MsoNormal><?xml:namespace prefix = o ns = "urn:schemas-microsoft-com:office:office" /><o:p><FONT face=Calibri>&nbsp\;</FONT></o:p></P><P style="MARGIN: 0in 0in 0pt" class=MsoNormal><FONT face=Calibri>Tuesday\, August 7\, 2012</FONT></P><P style="MARGIN: 0in 0in 0pt" class=MsoNormal><FONT face=Calibri>3:30pm</FONT></P><P style="MARGIN: 0in 0in 0pt" class=MsoNormal><FONT face=Calibri>601 E. Blackhawk Trail Rd.\, Eldridge\, IA</FONT></P><DIV style="FONT-FAMILY: Arial">&nbsp\;</DIV>
LOCATION:601 E. Blackhawk Trail Rd. Eldridge\, IA
UID:e.2843.412
SEQUENCE:3
DTSTAMP:20260421T220357Z
URL:https://member.quadcitieschamber.com/events/details/davenport-rail-spur-ribbon-cutting-ceremony-08-07-2012-412
END:VEVENT

END:VCALENDAR
