BEGIN:VCALENDAR
VERSION:2.0
PRODID:-//ChamberMaster//Event Calendar 2.0//EN
METHOD:PUBLISH
X-PUBLISHED-TTL:P3D
REFRESH-INTERVAL:P3D
CALSCALE:GREGORIAN
BEGIN:VEVENT
DTSTART:20170227T173000Z
DTEND:20170227T190000Z
X-MICROSOFT-CDO-ALLDAYEVENT:FALSE
SUMMARY:Davenport State of the City Address 2017
DESCRIPTION:The City of Davenport closed registration for this event at 12 p.m. on Thursday\, February 23rd. Walk-in's are not encouraged. \n\n\n\nThe Davenport State of the City Address with Mayor Frank Klipsch will be held on Monday\, February 27\, 2016 at the Rhythm City Casino\, 7077 Elmore Avenue. Doors will open at 11:30\, with lunch being served between 11:30 and 12:00. The program will begin at 12:00.\n\n \n\nThis event is open to the public. Lunch is $20 per person. To ensure your seat\, please RSVP in advance.\n\n \n\nThe Davenport State of the City address is an annual presentation by the Mayor of Davenport.  It is a great opportunity to review the accomplishments of the past year\, outline the roadmap of long and short term goals for the future\, while bringing together community organizations\, government officials\, citizens\, and businesses to promote and celebrate citywide and regional collaboration and success.\n\n \n\nMeal Options:\n\nPasta Primavera (Vegetarian): Fettuccini\, Broccoli\, Cauliflower\, Carrots and Tomato with Olive Oil and Fresh Basil\; or\n\nChicken La Quercia: Paneed Chicken with Sauteed Spinach\, Proscuitto and Swiss Cheese Cream\, served with Rice Pilaf and Fresh Vegetables\n\n     **Both entrees will come with a side Caesar Salad and a dessert\n\nRegistration Required
X-ALT-DESC;FMTTYPE=text/html:<div style="FONT-FAMILY: Arial">\n<p class="MsoNormal" style="MARGIN: 0in 0in 0pt"><span style="font-size:16px\;"><span style="font-family:arial\;"><font color="#000000"><span style="letter-spacing: -0.2px\;">The City of Davenport closed registration for this event at 12 p.m. on Thursday\, February 23rd. Walk-in&#39\;s are not encouraged.&nbsp\;</span></font><br />\n<br />\nThe Davenport State of the City Address with Mayor Frank Klipsch will be held on Monday\, February 27\, 2016 at the Rhythm City Casino\, 7077 Elmore Avenue. Doors will open at 11:30\, with lunch being served between 11:30 and 12:00. The program will begin at 12:00.<br />\n&nbsp\;<br />\nThis event is open to the public. Lunch is $20 per person. To ensure your seat\, please RSVP in advance.<br />\n&nbsp\;<br />\nThe Davenport State of the City address is an annual presentation by the Mayor of Davenport.&nbsp\; It is a great opportunity to review the accomplishments of the past year\, outline the roadmap of long and short term goals for the future\, while bringing together community organizations\, government officials\, citizens\, and businesses to promote and celebrate citywide and regional collaboration and success.<br />\n&nbsp\;<br />\n<u>Meal Options</u>:<br />\nPasta Primavera (Vegetarian): Fettuccini\, Broccoli\, Cauliflower\, Carrots and Tomato with Olive Oil and Fresh Basil\; or<br />\nChicken La Quercia: Paneed Chicken with Sauteed Spinach\, Proscuitto and Swiss Cheese Cream\, served with Rice Pilaf and Fresh Vegetables<br />\n&nbsp\;&nbsp\;&nbsp\;&nbsp\; **Both entrees will come with a side Caesar Salad and a dessert<br />\n<u>Registration Required</u></span></span></p>\n</div>\n
LOCATION:Rhythm City Casino & Resort 7077 Elmore Avenue Davenport\, Ia
UID:e.2843.4700
SEQUENCE:3
DTSTAMP:20260424T070913Z
URL:https://member.quadcitieschamber.com/events/details/davenport-state-of-the-city-address-2017-4700
END:VEVENT

END:VCALENDAR
