BEGIN:VCALENDAR
VERSION:2.0
PRODID:-//ChamberMaster//Event Calendar 2.0//EN
METHOD:PUBLISH
X-PUBLISHED-TTL:P3D
REFRESH-INTERVAL:P3D
CALSCALE:GREGORIAN
BEGIN:VEVENT
DTSTART:20140306T180000Z
DTEND:20140307T180000Z
X-MICROSOFT-CDO-ALLDAYEVENT:FALSE
SUMMARY:DC Fly-In 2014
DESCRIPTION:2014 D.C. Fly-In includes:DIRECT CHARTERED FLIGHT to and from DCOne night hotel stay at Hyatt Regency on Capitol HillReservation to the Quad Cities Reception hosted at Charlie Palmer Steak in Washington\, DCTransportation to and from Dulles Airport (applies to those utlizing charter flight only)
X-ALT-DESC;FMTTYPE=text/html:<P align=center>2014 D.C. Fly-In includes:</P><P align=center>DIRECT CHARTERED FLIGHT to and from DC</P><P align=center>One night hotel stay at Hyatt Regency on Capitol Hill</P><P align=center>Reservation to the Quad Cities Reception hosted at Charlie Palmer Steak in Washington\, DC</P><P align=center>Transportation to and from Dulles Airport (applies to those utlizing charter flight only)</P><P align=center>&nbsp\;</P><P align=center>&nbsp\;</P><DIV>&nbsp\;</DIV>
LOCATION:Washington\, DC
UID:e.2843.714
SEQUENCE:3
DTSTAMP:20260422T061223Z
URL:https://member.quadcitieschamber.com/events/details/dc-fly-in-2014-03-06-2014-714
END:VEVENT

END:VCALENDAR
