BEGIN:VCALENDAR
VERSION:2.0
PRODID:-//ChamberMaster//Event Calendar 2.0//EN
METHOD:PUBLISH
X-PUBLISHED-TTL:P3D
REFRESH-INTERVAL:P3D
CALSCALE:GREGORIAN
BEGIN:VEVENT
DTSTART:20120926T210000Z
DTEND:20120926T213000Z
X-MICROSOFT-CDO-ALLDAYEVENT:FALSE
SUMMARY:Dedication of the Duck Creek Trail
DESCRIPTION:On Wednesday\, September 26th at 4:00pm\, there will be a dedication of the Duck Creek Trail to honor former Mayor\, Bill Glynn.  The event will be held at the Middle Park Lagoon\, located 3 blocks east of 18th Street on Parkway Drive\, at the Shelter area.  Bill Glynn was Mayor of Bettendorf from 1974 to 1988.  He was instrumental in helping to start this trail which runs 4.2 miles along Duck Creek\, from the western city limits with Davenport\, to the eastern border of Riverdale at State Street.  The first section of the trail in Bettendorf was constructed in 1981\, and is now part of a large network of trails that serves the entire Quad City Community.
X-ALT-DESC;FMTTYPE=text/html:<P style="MARGIN: 0in 0in 0pt" class=MsoNormal><FONT face=Calibri>On Wednesday\, September 26<SUP>th</SUP> at 4:00pm\, there will be a dedication of the Duck Creek Trail to honor former Mayor\, Bill Glynn.<SPAN style="mso-spacerun: yes">&nbsp\; </SPAN>The event will be held at the Middle Park Lagoon\, located 3 blocks east of 18<SUP>th</SUP> Street on Parkway Drive\, at the Shelter area.<SPAN style="mso-spacerun: yes">&nbsp\; </SPAN>Bill Glynn was Mayor of Bettendorf from 1974 to 1988.<SPAN style="mso-spacerun: yes">&nbsp\; </SPAN>He was instrumental in helping to start this trail which runs 4.2 miles along Duck Creek\, from the western city limits with Davenport\, to the eastern border of Riverdale at State Street.<SPAN style="mso-spacerun: yes">&nbsp\; </SPAN>The first section of the trail in Bettendorf was constructed in 1981\, and is now part of a large network of trails that serves the entire Quad City Community.</FONT></P><DIV style="FONT-FAMILY: Arial">&nbsp\;</DIV>
LOCATION:Bettendorf LagoonEast of 18th Street on Parkway at the Shelter Bettendorf\, IA 52722
UID:e.2843.438
SEQUENCE:3
DTSTAMP:20260421T184433Z
URL:https://member.quadcitieschamber.com/events/details/dedication-of-the-duck-creek-trail-09-26-2012-438
END:VEVENT

END:VCALENDAR
