BEGIN:VCALENDAR
VERSION:2.0
PRODID:-//ChamberMaster//Event Calendar 2.0//EN
METHOD:PUBLISH
X-PUBLISHED-TTL:P3D
REFRESH-INTERVAL:P3D
CALSCALE:GREGORIAN
BEGIN:VEVENT
DTSTART:20200130T220000Z
DTEND:20200130T233000Z
X-MICROSOFT-CDO-ALLDAYEVENT:FALSE
SUMMARY:Detox Medical Group Visit
DESCRIPTION:Please understand that this visit will be charged just like any other doctor's appointment\, and the usual co-pays and insurance submission will apply. I also need you to know that since everyone attending this appointment has a medical condition affected by lifestyle behaviors\, it's possible that some personal health information could be disclosed during the appointment. Your spouse\, or another friend or family member\, is welcome to attend this visit with you. We anticipate this session will greatly enhance your ability to make healthy lifestyle changes and there will be accountability within the group.\n\nBenefits of a group medical visit:\n\n\n	\n	Groups can enhance your ability to make healthy lifestyle changes\n	\n	\n	Accountability\n	\n	\n	Learning about issues both medical and non-medical that are related to better wellness\n	\n	\n	Access to Dr. Jager where she can assess your lifestyle and help you make better choices\n	\n\n\nSpots are limited. We only have 12 spots available for this group visit.  If you would like to schedule an appointment for the group medical visit\, please do so TODAY with one of our receptionists.\n\nWe look forward to seeing you.
X-ALT-DESC;FMTTYPE=text/html:<p>Please understand that this visit will be charged just like any other doctor&#39\;s appointment\, and the usual co-pays and insurance submission will apply. I also need you to know that since everyone attending this appointment has a medical condition affected by lifestyle behaviors\, it&#39\;s possible that some personal health information could be disclosed during the appointment. Your spouse\, or another friend or family member\, is welcome to attend this visit with you. We anticipate this session will greatly enhance your ability to make healthy lifestyle changes and there will be accountability within the group.</p>\n\n<p>Benefits of a group medical visit:</p>\n\n<ul>\n	<li>\n	<p>Groups can enhance your ability to make healthy lifestyle changes</p>\n	</li>\n	<li>\n	<p>Accountability</p>\n	</li>\n	<li>\n	<p>Learning about issues both medical and non-medical that are related to better wellness</p>\n	</li>\n	<li>\n	<p>Access to Dr. Jager where she can assess your lifestyle and help you make better choices</p>\n	</li>\n</ul>\n\n<p><strong>Spots are limited. We only have 12 spots available for this group visit. </strong> If you would like to schedule an appointment for the group medical visit\, please do so TODAY with one of our receptionists.</p>\n\n<p>We look forward to seeing you.</p>\n
LOCATION:Iowa Cancer Specialists waiting room 1750 E. 53rd Street Davenport\, IA 52807
UID:e.2843.17426
SEQUENCE:3
DTSTAMP:20260422T015354Z
URL:https://member.quadcitieschamber.com/events/details/detox-medical-group-visit-01-30-2020-17426
END:VEVENT

END:VCALENDAR
