BEGIN:VCALENDAR
VERSION:2.0
PRODID:-//ChamberMaster//Event Calendar 2.0//EN
METHOD:PUBLISH
X-PUBLISHED-TTL:P3D
REFRESH-INTERVAL:P3D
CALSCALE:GREGORIAN
BEGIN:VEVENT
DTSTART:20120531T200000Z
DTEND:20120531T203000Z
X-MICROSOFT-CDO-ALLDAYEVENT:FALSE
SUMMARY:DHCU Community Credit Union Groundbreaking
DESCRIPTION:Please help celebrate the DHCU Community Credit Union Groundbreaking on Thursday\, May 31st at 3:00pm.  DHCU’s newest member service center located at 3230 Ridge Pointe will open late 2012. For more information on DHCU\, visit www.dhcu.org.
X-ALT-DESC;FMTTYPE=text/html:<DIV style="FONT-FAMILY: Arial"><P style="MARGIN: 0in 0in 0pt" class=MsoNormal>Please help celebrate the DHCU Community Credit Union Groundbreaking on Thursday\, May 31<SUP>st</SUP> at 3:00pm.<SPAN style="mso-spacerun: yes">&nbsp\; </SPAN>DHCU’s newest member service center located at 3230 Ridge Pointe will open late 2012.</P><P style="MARGIN: 0in 0in 0pt" class=MsoNormal><?xml:namespace prefix = o ns = "urn:schemas-microsoft-com:office:office" /><o:p>&nbsp\;</o:p></P><P style="MARGIN: 0in 0in 0pt" class=MsoNormal>For more information on DHCU\, visit <A href="http://www.dhcu.org">www.dhcu.org</A>.</P></DIV>
LOCATION:DHCU Community Credit Union3230 Ridge Pointe Bettendorf\, IA 52722
UID:e.2843.379
SEQUENCE:3
DTSTAMP:20260422T013205Z
URL:https://member.quadcitieschamber.com/events/details/dhcu-community-credit-union-groundbreaking-05-31-2012-379
END:VEVENT

END:VCALENDAR
