BEGIN:VCALENDAR
VERSION:2.0
PRODID:-//ChamberMaster//Event Calendar 2.0//EN
METHOD:PUBLISH
X-PUBLISHED-TTL:P3D
REFRESH-INTERVAL:P3D
CALSCALE:GREGORIAN
BEGIN:VEVENT
DTSTART:20130618T223000Z
DTEND:20130618T230000Z
X-MICROSOFT-CDO-ALLDAYEVENT:FALSE
SUMMARY:DHCU Community Credit Union Ribbon Cutting
DESCRIPTION:Please help DHCU Community Credit Union celebrate their new Bettendorf Branch with a ribbon cutting and open house on Tuesday\, June 18th at 5:30pm – Located at 3230 Ridge Pointe\, Bettendorf\, corner of Middle Road & Belmont. DHCU’s newest member service center opened in December 2012.  A full service branch offering complete banking services including: Drive-up\, lobby\, mortgages\, consumer loan\, ATM and a change exchange machine. Visit www.dhcu.org for more information.
X-ALT-DESC;FMTTYPE=text/html:<P style="MARGIN: 0in 0in 0pt" class=MsoNormal><FONT face=Calibri>Please help DHCU Community Credit Union celebrate their new Bettendorf Branch with a ribbon cutting and open house on <B style="mso-bidi-font-weight: normal">Tuesday\, June 18<SUP>th</SUP> at 5:30pm</B> – Located at 3230 Ridge Pointe\, Bettendorf\, corner of Middle Road &amp\; Belmont.<?xml:namespace prefix = o ns = "urn:schemas-microsoft-com:office:office" /><o:p></o:p></FONT></P><P style="MARGIN: 0in 0in 0pt" class=MsoNormal><o:p><FONT face=Calibri>&nbsp\;</FONT></o:p></P><P style="MARGIN: 0in 0in 0pt" class=MsoNormal><FONT face=Calibri>DHCU’s newest member service center opened in December 2012.<SPAN style="mso-spacerun: yes">&nbsp\; </SPAN>A full service branch offering complete banking services including: Drive-up\, lobby\, mortgages\, consumer loan\, ATM and a change exchange machine.<o:p></o:p></FONT></P><P style="MARGIN: 0in 0in 0pt" class=MsoNormal><o:p><FONT face=Calibri>&nbsp\;</FONT></o:p></P><P style="MARGIN: 0in 0in 0pt" class=MsoNormal><FONT face=Calibri>Visit </FONT><A href="http://www.dhcu.org">www.dhcu.org</A><FONT face=Calibri> for more information.<o:p></o:p></FONT></P><DIV style="FONT-FAMILY: Arial">&nbsp\;</DIV>
LOCATION:DHCU Community Credit Union3230 Ridge Pointe Bettendorf\, IA 52722
UID:e.2843.594
SEQUENCE:3
DTSTAMP:20260421T134910Z
URL:https://member.quadcitieschamber.com/events/details/dhcu-community-credit-union-ribbon-cutting-06-18-2013-594
END:VEVENT

END:VCALENDAR
