BEGIN:VCALENDAR
VERSION:2.0
PRODID:-//ChamberMaster//Event Calendar 2.0//EN
METHOD:PUBLISH
X-PUBLISHED-TTL:P3D
REFRESH-INTERVAL:P3D
CALSCALE:GREGORIAN
BEGIN:VEVENT
DTSTART:20190619T133000Z
DTEND:20190620T213000Z
X-MICROSOFT-CDO-ALLDAYEVENT:FALSE
SUMMARY:Dialogical Skills/Managing Project Communication
DESCRIPTION:Learn to develop a communication management plan for distributing appropriate information to each stakeholder group through proper forms of media while actively managing stakeholder expectations. Learn tools and approaches for influencing outcomes\, negotiating results and managing conflicts.
X-ALT-DESC;FMTTYPE=text/html:Learn to develop a communication management plan for distributing appropriate information to each stakeholder group through proper forms of media while actively managing stakeholder expectations. Learn tools and approaches for influencing outcomes\, negotiating results and managing conflicts.
LOCATION:1950 E. 54th St.\, Davenport\, IA 52807
UID:e.2843.14301
SEQUENCE:3
DTSTAMP:20260422T131045Z
URL:https://member.quadcitieschamber.com/events/details/dialogical-skills-managing-project-communication-14301
END:VEVENT

END:VCALENDAR
