BEGIN:VCALENDAR
VERSION:2.0
PRODID:-//ChamberMaster//Event Calendar 2.0//EN
METHOD:PUBLISH
X-PUBLISHED-TTL:P3D
REFRESH-INTERVAL:P3D
CALSCALE:GREGORIAN
BEGIN:VEVENT
DTSTART:20121206T223000Z
DTEND:20121206T230000Z
X-MICROSOFT-CDO-ALLDAYEVENT:FALSE
SUMMARY:Diamond Medical Spa & Vein Ribbon Cutting
DESCRIPTION:Please help welcome new member\, Diamond Medical Spa & Vein\, to the Chamber with a ribbon cutting at their grand opening on Thursday\, December 6th at 4:30pm.  Located at 3170 E. 53rd Street in Davenport – corner of 53rd and Elmore\, just behind Starbucks and Noodles. Attached is detailed information regarding the company.  You can also visit www.diamondmedicalspaandvein.com and www.Facebook.com/diamondmedicalspaandvein.
X-ALT-DESC;FMTTYPE=text/html:<P style="MARGIN: 0in 0in 0pt" class=MsoNormal><FONT face=Calibri>Please help welcome new member\, Diamond Medical Spa &amp\; Vein\, to the Chamber with a ribbon cutting at their grand opening on Thursday\,&nbsp\;December 6th&nbsp\;at 4:30pm.<SPAN style="mso-spacerun: yes">&nbsp\; </SPAN>Located at 3170 E. 53<SUP>rd</SUP> Street in Davenport – corner of 53<SUP>rd</SUP> and Elmore\, just behind Starbucks and Noodles.<?xml:namespace prefix = o ns = "urn:schemas-microsoft-com:office:office" /><o:p></o:p></FONT></P><P style="MARGIN: 0in 0in 0pt" class=MsoNormal><o:p><FONT face=Calibri>&nbsp\;</FONT></o:p></P><P style="MARGIN: 0in 0in 0pt" class=MsoNormal><FONT face=Calibri>Attached is detailed information regarding the company.<SPAN style="mso-spacerun: yes">&nbsp\; </SPAN>You can also visit </FONT><A href="http://www.diamondmedicalspaandvein.com">www.diamondmedicalspaandvein.com</A><FONT face=Calibri> and </FONT><A href="http://www.Facebook.com/diamondmedicalspaandvein">www.Facebook.com/diamondmedicalspaandvein</A>.<FONT face=Calibri> <o:p></o:p></FONT></P><DIV style="FONT-FAMILY: Arial">&nbsp\;</DIV><DIV style="FONT-FAMILY: Arial">&nbsp\;</DIV>
LOCATION:Diamond Medical Spa & Vein3170 E. 53rd Street Davenport\, IA 52807
UID:e.2843.478
SEQUENCE:3
DTSTAMP:20260421T134902Z
URL:https://member.quadcitieschamber.com/events/details/diamond-medical-spa-vein-ribbon-cutting-12-06-2012-478
END:VEVENT

END:VCALENDAR
