BEGIN:VCALENDAR
VERSION:2.0
PRODID:-//ChamberMaster//Event Calendar 2.0//EN
METHOD:PUBLISH
X-PUBLISHED-TTL:P3D
REFRESH-INTERVAL:P3D
CALSCALE:GREGORIAN
BEGIN:VEVENT
DTSTART:20180428T140000Z
DTEND:20180428T163000Z
X-MICROSOFT-CDO-ALLDAYEVENT:FALSE
SUMMARY:Digital Marketing and Social Media Strategies for Your Small Business
DESCRIPTION:Learn about digital marketing and social media strategies for your small business. This seminar is geared particularly toward farmer's market vendors and will be offered simultaneously in English and Spanish. All community members are welcome!
X-ALT-DESC;FMTTYPE=text/html:Learn about digital marketing and social media strategies for your small business. This seminar is geared particularly toward farmer&#39\;s market vendors and will be offered simultaneously in English and Spanish. All community members are welcome!
LOCATION:THE ESPERANZA CENTER 335 5th Avenue Moline\, IL 61265
UID:e.2843.10031
SEQUENCE:3
DTSTAMP:20260423T123636Z
URL:https://member.quadcitieschamber.com/events/details/digital-marketing-and-social-media-strategies-for-your-small-business-10031
END:VEVENT

END:VCALENDAR
