BEGIN:VCALENDAR
VERSION:2.0
PRODID:-//ChamberMaster//Event Calendar 2.0//EN
METHOD:PUBLISH
X-PUBLISHED-TTL:P3D
REFRESH-INTERVAL:P3D
CALSCALE:GREGORIAN
BEGIN:VEVENT
DTSTART:20090622T050000Z
DTEND:20090622T050000Z
X-MICROSOFT-CDO-ALLDAYEVENT:FALSE
SUMMARY:Dinner Reception w/ Rear Admiral Michael Browne\, US Navy
DESCRIPTION:Dinner Reception w/ Rear Admiral Michael Browne\, US Navy
X-ALT-DESC;FMTTYPE=text/html:Dinner Reception w/ Rear Admiral Michael Browne\, US Navy
LOCATION:
UID:e.2843.3722
SEQUENCE:3
DTSTAMP:20260424T074028Z
URL:https://member.quadcitieschamber.com/events/details/dinner-reception-w-rear-admiral-michael-browne-us-navy-06-22-2009-3722
END:VEVENT

END:VCALENDAR
