BEGIN:VCALENDAR
VERSION:2.0
PRODID:-//ChamberMaster//Event Calendar 2.0//EN
METHOD:PUBLISH
X-PUBLISHED-TTL:P3D
REFRESH-INTERVAL:P3D
CALSCALE:GREGORIAN
BEGIN:VEVENT
DTSTART:20140220T200000Z
DTEND:20140220T203000Z
X-MICROSOFT-CDO-ALLDAYEVENT:FALSE
SUMMARY:Disc Replay Grand Opening Ribbon Cutting
DESCRIPTION:Disc Replay\, located at 320 W. Kimberly Rd. Davenport\, IA 52806\, will host a grand opening ribbon cutting on Thursday\, February 20th at 3:30pm. The store is located inside North Park Mall near the Von Maur Entrance.   Disc Replay buys\, sells and trades used videogames and systems\, movies\, music\, electronics\, books\, collectible toys and small kitchen appliances.  The store pays top dollar cash or 30-50% more for in store credit. Disc Replay is stocked with tens of thousands of used media items and prides themselves on having a huge selection at great prices.  All used elelctronics are guaranteed to play like new.   For more information\, please visit www.discreplay.com.  Jeanna Trenkamp\, Program & Events Coordinator\, will be speaking on behalf of the Quad Cities Chamber of Commerce.
X-ALT-DESC;FMTTYPE=text/html:<P style="MARGIN: 0in 0in 0pt" class=MsoNormal><FONT face=Calibri><SPAN style="mso-spacerun: yes"><P style="MARGIN: 0in 0in 0pt" class=MsoNormal></P></SPAN></FONT><P style="MARGIN: 0in 0in 0pt" class=MsoNormal></P><FONT face=Calibri><P style="MARGIN: 0in 0in 0pt" class=MsoNormal>Disc Replay\, located at 320 W. Kimberly Rd. Davenport\, IA 52806\, will host a grand opening ribbon cutting on Thursday\, February 20<SUP>th</SUP> at 3:30pm. The store is located inside North Park Mall near the Von Maur Entrance.<SPAN style="mso-spacerun: yes">&nbsp\; </SPAN><?xml:namespace prefix = o ns = "urn:schemas-microsoft-com:office:office" /><o:p></o:p></P><P style="MARGIN: 0in 0in 0pt" class=MsoNormal><o:p>&nbsp\;</o:p></P><P style="MARGIN: 0in 0in 0pt" class=MsoNormal>Disc Replay buys\, sells and trades used videogames and systems\, movies\, music\, electronics\, books\, collectible toys and small kitchen appliances.<SPAN style="mso-spacerun: yes">&nbsp\; </SPAN>The store pays top dollar cash or 30-50% more for in store credit. Disc Replay is stocked with tens of thousands of used media items and prides themselves on having a huge selection at great prices.<SPAN style="mso-spacerun: yes">&nbsp\; </SPAN>All used elelctronics are guaranteed to play like new.<SPAN style="mso-spacerun: yes">&nbsp\; </SPAN><o:p></o:p></P><P style="MARGIN: 0in 0in 0pt" class=MsoNormal><o:p>&nbsp\;</o:p></P><P style="MARGIN: 0in 0in 0pt" class=MsoNormal>For more information\, please visit <A href="http://www.discreplay.com"><FONT color=#0000ff face="Times New Roman">www.discreplay.com</FONT></A>. <o:p></o:p></P><P style="MARGIN: 0in 0in 0pt" class=MsoNormal><o:p>&nbsp\;</o:p></P><P style="MARGIN: 0in 0in 0pt" class=MsoNormal>Jeanna Trenkamp\, Program &amp\; Events Coordinator\, will be speaking on behalf of the Quad Cities Chamber of Commerce.<SPAN style="mso-spacerun: yes">&nbsp\; </SPAN><o:p></o:p></P><P style="MARGIN: 0in 0in 0pt" class=MsoNormal></FONT>&nbsp\;</P>
LOCATION:Disc Replay320 W. Kimberly Rd. Davenport\, IA 52806
UID:e.2843.775
SEQUENCE:3
DTSTAMP:20260422T051003Z
URL:https://member.quadcitieschamber.com/events/details/disc-replay-grand-opening-ribbon-cutting-02-20-2014-775
END:VEVENT

END:VCALENDAR
