BEGIN:VCALENDAR
VERSION:2.0
PRODID:-//ChamberMaster//Event Calendar 2.0//EN
METHOD:PUBLISH
X-PUBLISHED-TTL:P3D
REFRESH-INTERVAL:P3D
CALSCALE:GREGORIAN
BEGIN:VEVENT
DTSTART:20120127T190000Z
DTEND:20120127T193000Z
X-MICROSOFT-CDO-ALLDAYEVENT:FALSE
SUMMARY:Discount Tobacco Warehouse Ribbon Cutting
DESCRIPTION:Please help us celebrate new business and new Chamber member\, Discount Tobacco Warehouse\, with a ribbon cutting on Friday\, January 27\, 2012 at 1pm.  Location is 180 – 19th Avenue in Moline (City Line Plaza). Discount Tobacco Warehouse is known for having the lowest tobacco prices in the Quad Cities.
X-ALT-DESC;FMTTYPE=text/html:<DIV><FONT face=Calibri><P style="MARGIN: 0in 0in 0pt" class=MsoNormal>Please help us celebrate new business and new Chamber member\, Discount Tobacco Warehouse\, with a ribbon cutting on Friday\, January 27\, 2012 at 1pm.<SPAN style="mso-spacerun: yes">&nbsp\; </SPAN>Location is 180 – 19<SUP>th</SUP> Avenue in Moline (City Line Plaza).</P><P style="MARGIN: 0in 0in 0pt" class=MsoNormal><?xml:namespace prefix = o ns = "urn:schemas-microsoft-com:office:office" /><o:p>&nbsp\;</o:p></P><P style="MARGIN: 0in 0in 0pt" class=MsoNormal>Discount Tobacco Warehouse is known for having the lowest tobacco prices in the Quad Cities.</P><P style="MARGIN: 0in 0in 0pt" class=MsoNormal>&nbsp\;</P></FONT></DIV>
LOCATION:Discount Tobacco Warehouse180 19th Ave Moline\, IL 61265
UID:e.2843.331
SEQUENCE:3
DTSTAMP:20260422T111446Z
URL:https://member.quadcitieschamber.com/events/details/discount-tobacco-warehouse-ribbon-cutting-01-27-2012-331
END:VEVENT

END:VCALENDAR
